BEGIN:VCALENDAR
VERSION:2.0
PRODID:-//wp-events-plugin.com//7.2.3.1//EN
TZID:Europe/Warsaw
X-WR-TIMEZONE:Europe/Warsaw
BEGIN:VEVENT
UID:48925@night4u.pl
DTSTART;TZID=Europe/Warsaw:20200229T210000
DTEND;TZID=Europe/Warsaw:20200229T230000
DTSTAMP:20200229T022906Z
URL:https://night4u.pl/wydarzenia/sim-on-tama-bar/
SUMMARY:SIM.ON | Tama Bar
DESCRIPTION:Sobotni wieczór w Tama Barze spędzimy z rezydentem Tamy\, SIM
 .ONem.\n\nDziecko trance’u ewoluowało w dorosłego undergroundowca - ta
 k w skrócie można opisać tę postać. SIM.ON to młody DJ i producent e
 manujący niespożyta energią\, którą przelewa w swoją twórczość. Z
  łatwością odnajduje się w przeróżnych gatunkach\, które łączy w 
 jedno bujające brzmienie\, pełne niespodziewanych zwrotów.
ATTACH;FMTTYPE=image/jpeg:https://night4u.pl/wp-content/uploads/2020/02/16
 7620_image_87546862_2591661281154915_5394185371351252992_o.jpg
CATEGORIES:wielkopolskie
LOCATION:Tama Bar\, Niezłomnych 2\, Poznan\, 61-582\, Poland
GEO:52.402188;16.921897
X-APPLE-STRUCTURED-LOCATION;VALUE=URI;X-ADDRESS=Niezłomnych 2\, Poznan\, 6
 1-582\, Poland;X-APPLE-RADIUS=100;X-TITLE=Tama Bar:geo:52.402188,16.921897
END:VEVENT
BEGIN:VTIMEZONE
TZID:Europe/Warsaw
X-LIC-LOCATION:Europe/Warsaw
BEGIN:STANDARD
DTSTART:20191027T020000
TZOFFSETFROM:+0200
TZOFFSETTO:+0100
TZNAME:CET
END:STANDARD
END:VTIMEZONE
END:VCALENDAR