BEGIN:VCALENDAR
VERSION:2.0
PRODID:-//wp-events-plugin.com//7.2.3.1//EN
TZID:Europe/Warsaw
X-WR-TIMEZONE:Europe/Warsaw
BEGIN:VEVENT
UID:46953@night4u.pl
DTSTART;TZID=Europe/Warsaw:20200215T220000
DTEND;TZID=Europe/Warsaw:20200216T050000
DTSTAMP:20200331T150019Z
URL:https://night4u.pl/wydarzenia/simobiskup-prezentuja-lista-fb-do-23-wst
 ep-free-4/
SUMMARY:SimoBiskup prezentują | lista fb do 23 wstęp free!
DESCRIPTION:Będzie świetnie - to prawdziwe true story.\nPrezentują: Simo
  i Biskup najsmaczniejszy imprezowy duet Poznania!\n\nzagrają:\ndj simo\n
 Biskup\nMatthewb.\n\n\nstart: 22:00\nwstęp: 20 zł\nkarty klubowe wejści
 e FREE\,\nlista FB do 23.00 wejście FREE \npokolenie 30+ wstęp macie za 
 free - szanujemy doświadczenie imprezowe\, tak więc pokażcie jak to si
 ę robi - zapraszamy!\n\nselekcja\nwstęp od 21 lat\n*wejście do klubu na
  listę fb jest jednorazowe w ciągu danej imprezy\, ponowny wstęp wiąż
 e się z opłatą za wejście\n\nREZERWACJE:\nOliwia 511215860\nhttp://bit
 .ly/1NsNghc\nRezerwacje on-line:\nhttps://emenago.com/inner/cart/220/a3f73
 e9d3f582b58e2f1311e0bb65fc1/pl\n\nZAPRASZAMY!\n---------------------------
 -----------------------------\nentry:20 pln / club cards entry free / we o
 ffer free entrance for guests 30+ yo / fb list to 23:00 entry free\, the l
 ist closes at 21:00 / entry from 21 years old / selection\n*entry to the c
 lub for the fb list is disposable during that party\, another entry is con
 nected with payment for the entry
ATTACH;FMTTYPE=image/jpeg:https://night4u.pl/wp-content/uploads/2020/02/15
 5455_image_84990926_3343357319014671_8056105234105106432_n.jpg
CATEGORIES:wielkopolskie
LOCATION:Klub Czekolada Poznań\, Poznan\, Poland
GEO:52.40609;16.93264
X-APPLE-STRUCTURED-LOCATION;VALUE=URI;X-ADDRESS=Poznan\, Poland;X-APPLE-RAD
 IUS=100;X-TITLE=Klub Czekolada Poznań:geo:52.40609,16.93264
END:VEVENT
BEGIN:VTIMEZONE
TZID:Europe/Warsaw
X-LIC-LOCATION:Europe/Warsaw
BEGIN:STANDARD
DTSTART:20191027T020000
TZOFFSETFROM:+0200
TZOFFSETTO:+0100
TZNAME:CET
END:STANDARD
END:VTIMEZONE
END:VCALENDAR