BEGIN:VCALENDAR
VERSION:2.0
PRODID:-//wp-events-plugin.com//7.2.3.1//EN
TZID:Europe/Warsaw
X-WR-TIMEZONE:Europe/Warsaw
BEGIN:VEVENT
UID:19480@night4u.pl
DTSTART;TZID=Europe/Warsaw:20190621T220000
DTEND;TZID=Europe/Warsaw:20190622T040000
DTSTAMP:20190617T194816Z
URL:https://night4u.pl/wydarzenia/simon-says-sax-night-ft-moetchandon-ice-
 imperial/
SUMMARY:Simon Says: SAX NIGHT ft. Moet&Chandon Ice Imperial
DESCRIPTION:Simon Says to imprezy\, podczas których nasz Simon pokazuje ze
  swoimi gośćmi co im w duszy gra.\n\nZawsze jest bardzo energetycznie\, 
 pozytywnie i tanecznie. Tradycją są powitania słońca przy dźwiękach\
 , które budzą sentyment i powodują uśmiech na twarzy.\n\nJak raz spró
 bujesz - już zawsze będziesz chcieć więcej.\n\nImprezie partneruje Moe
 t&Chandon w naszej ulubionej wakacyjnej odsłonie ICE IMPERIAL.\n_________
 ____________\n\nPIĄTEK 21.06.2019\n_____________________\n\nDJs:\nSimon a
 ka Hanna Bernard\nMJ SAX \nSKIPEK\n_____________________\n\n*start: 22:00 
 / obowiązuje selekcja\n*rezerwacje: reservation@theview.pl / +48 663 971 
 942\n*wstęp: \n30 PLN\nlista facebook wstęp FREE do 23:00 (kliknij "wezm
 ę udział")\nmiędzy 3:00 a 4:00 wstęp FREE\nwejście na imprezę możli
 we do godziny 4:00\n______________________\n\nTHE VIEW - LIKE NO OTHER.
ATTACH;FMTTYPE=image/jpeg:https://night4u.pl/wp-content/uploads/2019/06/46
 954_image_62543482_2197102990337763_5963095429414387712_n.jpg
CATEGORIES:mazowieckie
LOCATION:The View Warsaw\, Twarda 18\, Warsaw\, 00-105\, Poland
GEO:52.23443;20.99936
X-APPLE-STRUCTURED-LOCATION;VALUE=URI;X-ADDRESS=Twarda 18\, Warsaw\, 00-105
 \, Poland;X-APPLE-RADIUS=100;X-TITLE=The View Warsaw:geo:52.23443,20.99936
END:VEVENT
BEGIN:VTIMEZONE
TZID:Europe/Warsaw
X-LIC-LOCATION:Europe/Warsaw
BEGIN:DAYLIGHT
DTSTART:20190331T030000
TZOFFSETFROM:+0100
TZOFFSETTO:+0200
TZNAME:CEST
END:DAYLIGHT
END:VTIMEZONE
END:VCALENDAR