BEGIN:VCALENDAR
VERSION:2.0
PRODID:-//wp-events-plugin.com//7.2.3.1//EN
TZID:Europe/Warsaw
X-WR-TIMEZONE:Europe/Warsaw
BEGIN:VEVENT
UID:34993@night4u.pl
DTSTART;TZID=Europe/Warsaw:20200418T200000
DTEND;TZID=Europe/Warsaw:20200418T230000
DTSTAMP:20200322T212620Z
URL:https://night4u.pl/wydarzenia/singer-songwriter-concert-david-blair/
SUMMARY:Singer Songwriter Concert - David Blair
DESCRIPTION:Whether it’s on guitar or piano David Blair shows up in the s
 ame way: with exuberant enthusiasm\, cheerfulness and charisma. As in his 
 appearance in "The Voice of Germany 2017"\, where he won Yvonne Catterfeld
  over with his performance of the Backstreet Boys 'As Long As You Love Me'
  she couldn't help but rave "You have different nuances in your voice\, si
 nging so freely and emotionally - really great." The Canadian story-teller
  is a first-degree entertainer and sings from the heart!\n\nWhether it's "
 What Am I Worried About"\, "Magic"\, "This Is The Soundtrack" or his curre
 nt single "Why"  - David Blair's sensational albums offer a tonne of hits.
  As the American Performing Songwriter Magazine enthuses: "His eclectic co
 llection of acoustic-pop songs provide an unforgettable soundtrack for any
  occasion." "Absolutely contagious"\, says the Canadian opera singer and j
 uror on "Canada's Got Talent" Measha Brueggergosman.\n\nThe Berliner\, who
  sold his house and most of his belongings in Canada five years ago\, is t
 ouring across Europe to present his fifth album "As You Let Go: Songwritin
 g Sundays\," which will be officially released on February 22\, 2019. It's
  David Blair's first purely acoustic album\, presenting only one vocal and
  instrument track per song about freedom\, peace\, love\, friendship and l
 oss in life. The songs are from David Blair's songwriting Sundays series\,
  when the singer/songwriter wrote a new song every Sunday in 2015/2016 for
  eight months. The album brings together the most beautiful songs from thi
 s collection.
ATTACH;FMTTYPE=image/jpeg:https://night4u.pl/wp-content/uploads/2019/11/91
 871_image_72568042_10157113725764425_1018995589569839104_n.jpg
CATEGORIES:mazowieckie
LOCATION:To Się Wytnie\, ul. Stalowa 46\, Warsaw\, 03-429\, Poland
GEO:52.26133;21.04416
X-APPLE-STRUCTURED-LOCATION;VALUE=URI;X-ADDRESS=ul. Stalowa 46\, Warsaw\, 0
 3-429\, Poland;X-APPLE-RADIUS=100;X-TITLE=To Się Wytnie:geo:52.26133,21.0
 4416
END:VEVENT
BEGIN:VTIMEZONE
TZID:Europe/Warsaw
X-LIC-LOCATION:Europe/Warsaw
BEGIN:DAYLIGHT
DTSTART:20200329T030000
TZOFFSETFROM:+0100
TZOFFSETTO:+0200
TZNAME:CEST
END:DAYLIGHT
END:VTIMEZONE
END:VCALENDAR