BEGIN:VCALENDAR
VERSION:2.0
PRODID:-//wp-events-plugin.com//7.2.3.1//EN
TZID:Europe/Warsaw
X-WR-TIMEZONE:Europe/Warsaw
BEGIN:VEVENT
UID:2071@night4u.pl
DTSTART;TZID=Europe/Warsaw:20190125T210000
DTEND;TZID=Europe/Warsaw:20190126T050000
DTSTAMP:20181231T133142Z
URL:https://night4u.pl/wydarzenia/single-party-%e2%98%85-dnf/
SUMMARY:SINGLE PARTY ★ DNF
DESCRIPTION:SINGLE PARTY ★ DNF\nPT.25.01.2019 ★ ENERGY 2000 KATOWICE\nG
 otowi na najmodniejszą imprezę w Polsce? Chcesz zaszaleć? Szukasz swoje
 j prawdziwej miłości? Zapraszamy Cię w piątek 25 styczniaa! W czasie n
 aszej imprezy wszystkie Singielki i Single będą mogli założyć specjal
 ne opaski koloru zielonego\, a Ci zajęci i zajęte lub "niechętne" otrzy
 mają czerwone. Teraz znalezienie twojej połówki będzie na prawdę pros
 te! Spodziewajcie się niesamowitych efektów specjalnych\, masy nagród\,
  atrakcji i energicznej muzy! Gościem specjalnym tego wydarzenia będzie 
 DNF! Twórca mega klubowych hitów: "SICK"\, "READY FOR THE BOUNCE"\, "PUT
  YOUR HANDS UP" i wielu innych! \n\nBilet: Panie 10 zł\, Panowie 15 zł\n
 Wiek: +16 lat\nStart: 21:00\n\nTego wydarzenia po prostu nie możecie prze
 gapić.\nZagrają dla Was nasi rezydenci:\nMain Stage: Aras\, DeePush\, D-
 Wave\nDance Stage: Mefiu\, Kubeck\nVIP Stage: Triks\n\nPROMOCJA / URODZINY
 /KAWALERSKIE/PANIEŃSKIE - AKTYWNE.\nZasady promocji znajdziesz w naszym F
 AQ.\n\nRezerwacja loży: ON-LINE: na naszej stronie www\, w zakładce: REZ
 ERWACJE lub TELEFONICZNIE pod nr. +48 609 539 619 od pon. do pt. w godz. 8
 -16.\n\nW całym klubie dostępne darmowe WI-FI.\nLokal w pełni klimatyzo
 wany!\nSerdecznie zapraszamy!
ATTACH;FMTTYPE=image/jpeg:https://night4u.pl/wp-content/uploads/2018/12/81
 66_image_49158943_2635674469783488_6674196671938691072_o.jpg
CATEGORIES:śląskie
LOCATION:Energy 2000 Katowice\, Katowice\, Poland
GEO:50.255951;19.02099
X-APPLE-STRUCTURED-LOCATION;VALUE=URI;X-ADDRESS=Katowice\, Poland;X-APPLE-R
 ADIUS=100;X-TITLE=Energy 2000 Katowice:geo:50.255951,19.02099
END:VEVENT
BEGIN:VTIMEZONE
TZID:Europe/Warsaw
X-LIC-LOCATION:Europe/Warsaw
BEGIN:STANDARD
DTSTART:20181028T020000
TZOFFSETFROM:+0200
TZOFFSETTO:+0100
TZNAME:CET
END:STANDARD
END:VTIMEZONE
END:VCALENDAR