BEGIN:VCALENDAR
VERSION:2.0
PRODID:-//wp-events-plugin.com//7.2.3.1//EN
TZID:Europe/Warsaw
X-WR-TIMEZONE:Europe/Warsaw
BEGIN:VEVENT
UID:15246@night4u.pl
DTSTART;TZID=Europe/Warsaw:20190517T210000
DTEND;TZID=Europe/Warsaw:20190518T050000
DTSTAMP:20190507T204001Z
URL:https://night4u.pl/wydarzenia/single-party-%e2%98%85-dycha-za-dyche/
SUMMARY:SINGLE PARTY ★ DYCHA ZA DYCHĘ!
DESCRIPTION:SINGLE PARTY ★ DYCHA ZA DYCHĘ!\nPT.17.05.19 ★ ENERGY 2000 
 PRZYTKOWICE\nGotowi na najmodniejszą imprezę w Polsce? Chcesz zaszaleć?
  Szukasz swojej prawdziwej miłości? Zapraszamy Cię w piątek 17 maja! W
  czasie naszej imprezy wszystkie Singielki i Single będą mogli założy
 ć specjalne opaski koloru zielonego\, a Ci zajęci i zajęte lub "niechę
 tne" otrzymają czerwone. Teraz znalezienie twojej połówki będzie na pr
 awdę proste! Spodziewajcie się niesamowitych efektów specjalnych\, masy
  nagród\, atrakcji i energicznej muzy!\n\nUWAGA! Tej nocy obowiązuje akc
 ja DYCH ZA DYCHĘ! Płacicie dyszkę za wstęp\, a od nas dostajecie dyszk
 ę energicznej kasy\, do wykorzystania na barze!\n\nZagrają: \nSala Głó
 wna: Thomas | Don Pablo | Daniels \nSala Dance: De Sebastiano I Discotek\n
 Sala VIP: Skrzypa\n\nBilet: 10 PLN | Wiek: +16 lat | Start: 21:00\n\nPROMO
 CJA / URODZINY/KAWALERSKIE/PANIEŃSKIE - AKTYWNA. \n\nZasady promocji znaj
 dziesz w naszym FAQ. \nRezerwacja loży: ON-LINE:  na naszej stronie www.\
 , w zakładce: REZERWACJE LOŻY lub TELEFONICZNIE pod nr. 33 876 88 12  od
  pon. do pt. w godz. 8-16.\nZapraszamy!
ATTACH;FMTTYPE=image/jpeg:https://night4u.pl/wp-content/uploads/2019/05/37
 680_image_54727815_2244256412287459_4598647365300125696_o.jpg
CATEGORIES:małopolskie
LOCATION:Energy 2000 Przytkowice\, Przytkowice 532 a\, Przytkowice\, 34-141
 \, Poland
GEO:49.902767;19.693146
X-APPLE-STRUCTURED-LOCATION;VALUE=URI;X-ADDRESS=Przytkowice 532 a\, Przytko
 wice\, 34-141\, Poland;X-APPLE-RADIUS=100;X-TITLE=Energy 2000 Przytkowice:
 geo:49.902767,19.693146
END:VEVENT
BEGIN:VTIMEZONE
TZID:Europe/Warsaw
X-LIC-LOCATION:Europe/Warsaw
BEGIN:DAYLIGHT
DTSTART:20190331T030000
TZOFFSETFROM:+0100
TZOFFSETTO:+0200
TZNAME:CEST
END:DAYLIGHT
END:VTIMEZONE
END:VCALENDAR