BEGIN:VCALENDAR
VERSION:2.0
PRODID:-//wp-events-plugin.com//7.2.3.1//EN
TZID:Europe/Warsaw
X-WR-TIMEZONE:Europe/Warsaw
BEGIN:VEVENT
UID:33299@night4u.pl
DTSTART;TZID=Europe/Warsaw:20191108T210000
DTEND;TZID=Europe/Warsaw:20191109T040000
DTSTAMP:20191103T054919Z
URL:https://night4u.pl/wydarzenia/single-party-%e2%9c%aa-piatek-08-11-%e2%
 9c%aa-elefunk-the-club/
SUMMARY:Single Party ✪ Piątek 08.11 ✪ Elefunk The Club
DESCRIPTION:W piątek 08 listopada zapraszamy Was do klubu Elefunk The Club
  na najpopularniejszą imprezę w Polsce 💥 SINGLE PARTY 💥\n\nMacie o
 chotę zacząć imprezę wcześniej? Do 22 wejdziecie do nas za 10 ziko 
 🙂 Do każdej wlotki dorzucamy shota wódeczki 🥃 a dla niepijących z
 motoryzowanych coś bezalko 0\,5 butelka wody (gazowana/niegazowana) 😎\
 n\nSzukasz miłości? Przygody? Jesteś wolny lub zajęty - ta impreza jes
 t dla Ciebie! 😀\n\nNa wejściu rozdamy Wam opaski w różnych kolorach\
 , dzięki czemu zorientujecie się do kogo możecie zagadać 😀\n\n🚦 
 Opaski w kolorach:\n👉 CZERWONY - Zajęty/Zajęta\n👉 ZIELONY - Wolny/
 Wolna\n👉 ŻÓŁTY - Szukam miłości \n\nZa konsoletą nasi dj’e REGA
 KS &amp\; NOXRATE &amp\; CANNABISWHISKY\n\nWpadaj potańczyć i zobaczyć 
 nowe imprezy na mapie Szczecina!\n\n--\nInfo:\n📅 08.11 - PIĄTEK\n🕘 
 Start: 21:00\n🎫 Wstęp: 10zł do 22:00 / 15zł po 22:00\n📌 plac Żo
 łnierza Polskiego 2\n--\nRezerwacja:\n📲 Rezerwacje loży online już o
 d 10\,00zł : Facebook: Mocniej\n--\n💸 uwaga\, chcesz wejść za darmo?
  Rozdamy tylko 10 wejściówek z osobą towarzyszącą. Jak wygrać? Zapro
 ś minimum 300 osób na to wydarzenie\, zrób screen i wrzuć tutaj. \nWid
 zimy się \n\n\n\n\n\n\n\n\n\n\n\n\n🎧🎧🎧 uwaga\, uwaga\, uwaga kon
 kurs dla DJ-ów. Chcesz zagrać set na imprezie? Wyślij nam minumum 15 mi
 n set w wiadomości prywatnej na profil organizatora MOCNIEJ do 01 listopa
 da. \nPowodzenia 🤘🏿
ATTACH;FMTTYPE=image/jpeg:https://night4u.pl/wp-content/uploads/2019/10/82
 468_image_75196244_495212794409014_3532706649313640448_n.jpg
CATEGORIES:zachodniopomorskie
END:VEVENT
BEGIN:VTIMEZONE
TZID:Europe/Warsaw
X-LIC-LOCATION:Europe/Warsaw
BEGIN:STANDARD
DTSTART:20191027T020000
TZOFFSETFROM:+0200
TZOFFSETTO:+0100
TZNAME:CET
END:STANDARD
END:VTIMEZONE
END:VCALENDAR