BEGIN:VCALENDAR
VERSION:2.0
PRODID:-//wp-events-plugin.com//7.2.3.1//EN
TZID:Europe/Warsaw
X-WR-TIMEZONE:Europe/Warsaw
BEGIN:VEVENT
UID:5736@night4u.pl
DTSTART;TZID=Europe/Warsaw:20190202T200000
DTEND;TZID=Europe/Warsaw:20190203T040000
DTSTAMP:20190131T143316Z
URL:https://night4u.pl/wydarzenia/single-party-02-02-2019-rin-music-club/
SUMMARY:Single Party // 02.02.2019 // RIN music club
DESCRIPTION:ENGLISH VERSION BELOW // www.where2b.org/RinMusicClub\n\nRIN ł
 ączy ludzi i tak też będzie tym razem. \nZnajdź w RINie drugą połów
 kę na zbliżające się Walentynki!\n\nJesteś osobą\, która wciąż sz
 uka miłości? Czekasz na partnera\, z którym chcesz spędzić resztę sw
 ojego życia? A może już masz taką osobę i chcesz spędzić razem z ni
 ą niezapomniane chwile w naszym klubie? \nTej nocy wszystko jest możliwe
 ! \n\nBy ułatwić Wam znalezienie odpowiedniej osoby\, przygotowaliśmy o
 paski w dwóch kolorach\, nadając im specjalne znaczenie: \n\nCZERWONA: j
 estem w związku\nŻÓŁTA: szukam związku\n\nO odpowiednią atmosferę z
 adba DJ KAYMAN\, który zabierze nas w taneczną i muzyczną podróż od l
 at 80-tych po brzmienia współczesne.\n\nStudenci wszystko z Menu -30%!\n
 \nFotorelacje z imprezy znajdziecie na naszym fanpage-u: facebook.com/rinc
 lubkrakow\nRezerwacja: kontakt@rinclub.pl lub +48 608 399 538\nRIN music c
 lub zastrzega sobie prawo do selekcji gości.\n\nRIN your place\, music& p
 arty...\n\n/ENGLISH VERSION/\n\nRIN connects people and so on this time. F
 ind the second half in RIN on the upcoming Valentine's Day!\nAre you a per
 son who is still looking for love? Are you waiting for a partner with whom
  you want to spend the rest of your life? Or maybe you already have such a
  person and you want to spend unforgettable moments with us in our club?\n
 Everything is possible tonight!\n\nTo help you find the right person\, we'
 ve prepared two-tone headbands\, giving them a special meaning:\nRED: I'm 
 in a relationship\nYELLOW: I am looking for a relationship\n\nDJ KAYMAN wi
 ll take care of the right atmosphere\, taking us on a dance and music jour
 ney from the 80's to contemporary sounds.\n\nStudents all with Menu -30%!\
 n\nPhotos from party you’ll find on facebook: facebook.com/rinclubkrakow
 \n\nReservation: kontakt@rinclub.pl or 608 399 538\nRIN music club reserve
 s the right to select guests.\nRIN your place\, music& party…
ATTACH;FMTTYPE=image/jpeg:https://night4u.pl/wp-content/uploads/2019/01/17
 433_image_50934446_2296633547022420_5711887267627270144_n.jpg
CATEGORIES:małopolskie
LOCATION:RIN music club\, ul. Szewska 14\, Kraków\, 31-009\, Poland
GEO:50.062663;19.934545
X-APPLE-STRUCTURED-LOCATION;VALUE=URI;X-ADDRESS=ul. Szewska 14\, Kraków\, 
 31-009\, Poland;X-APPLE-RADIUS=100;X-TITLE=RIN music club:geo:50.062663,19
 .934545
END:VEVENT
BEGIN:VTIMEZONE
TZID:Europe/Warsaw
X-LIC-LOCATION:Europe/Warsaw
BEGIN:STANDARD
DTSTART:20181028T020000
TZOFFSETFROM:+0200
TZOFFSETTO:+0100
TZNAME:CET
END:STANDARD
END:VTIMEZONE
END:VCALENDAR