BEGIN:VCALENDAR
VERSION:2.0
PRODID:-//wp-events-plugin.com//7.2.3.1//EN
TZID:Europe/Warsaw
X-WR-TIMEZONE:Europe/Warsaw
BEGIN:VEVENT
UID:21861@night4u.pl
DTSTART;TZID=Europe/Warsaw:20190711T220000
DTEND;TZID=Europe/Warsaw:20190711T220000
DTSTAMP:20190709T223738Z
URL:https://night4u.pl/wydarzenia/single-party-5/
SUMMARY:Single party
DESCRIPTION:Jesteś zakochany? A może właśnie szukasz swojej drugiej po
 łówki? Wpadnij do nas 11 lipca i poznaj kogoś wyjątkowego! \n\nWybierz
  dla siebie odpowiedni kolor opaski! \n❤️ zajęty \n? wolny \n? dzisia
 j szaleję! \n\nDla wszystkich do 23:00 darmowe wlepki i piwko za 5 zł!
ATTACH;FMTTYPE=image/jpeg:https://night4u.pl/wp-content/uploads/2019/07/51
 812_image_66143924_2325955517494009_4720320425836412928_n.jpg
CATEGORIES:pomorskie
LOCATION:Bar "Bocian"\, Jantar\, Poland
GEO:54.33178;19.02648
X-APPLE-STRUCTURED-LOCATION;VALUE=URI;X-ADDRESS=Jantar\, Poland;X-APPLE-RAD
 IUS=100;X-TITLE=Bar \"Bocian\":geo:54.33178,19.02648
END:VEVENT
BEGIN:VTIMEZONE
TZID:Europe/Warsaw
X-LIC-LOCATION:Europe/Warsaw
BEGIN:DAYLIGHT
DTSTART:20190331T030000
TZOFFSETFROM:+0100
TZOFFSETTO:+0200
TZNAME:CEST
END:DAYLIGHT
END:VTIMEZONE
END:VCALENDAR