BEGIN:VCALENDAR
VERSION:2.0
PRODID:-//wp-events-plugin.com//7.2.3.1//EN
TZID:Europe/Warsaw
X-WR-TIMEZONE:Europe/Warsaw
BEGIN:VEVENT
UID:26142@night4u.pl
DTSTART;TZID=Europe/Warsaw:20190928T210000
DTEND;TZID=Europe/Warsaw:20190929T040000
DTSTAMP:20190903T190400Z
URL:https://night4u.pl/wydarzenia/single-party-ladies-night-rozdajemy-opas
 ki-lista-fb-free-do22/
SUMMARY:Single Party-Ladies Night//Rozdajemy Opaski//Lista FB Free Do22!
DESCRIPTION:28 Września (Sobota)\n#Rzeszów Klub Pod Palmą \nul. Cicha 4a
 \n\n✰#EnglishVersionBelow\n✰Start 21:00\n✔Bilety:\n➡21:00-22:00 Li
 sta FB Wstęp #FREE (Za Okazaniem Dokumentu Tożsamości). Więc dołącz 
 do #wydarzenia i wejdź za darmo❗\n➡Po 22:00 & Pozostali Wstęp 10 PLN
 \n\n⚡ ⚡ Listę z Facebooka zamykamy 28.09.2019 punktualnie o godzinie 
 19:00. Osoby które dodadzą się do wydarzenia po tej godzinie nie zostan
 ą wpisane już na listę❗ ⚡ ⚡\n\nZapraszamy na kolejną odsłonę k
 ultowej imprezy z cyklu #SingleParty! Czas na Przygodę! Czas na Flirt! Cz
 as na Wrażenia! Czas na Miłość! Bądź z nami i spędź ten wieczór w
  wybornym towarzystwie.\n❏ ❐ ❑ ❒ ❏ ❐ ❑ ❒ ❏ ❐ ❑ ❒ 
 ❏ ❐ ❑ ❒ ❏ ❐ ❑ ❐ ❑ ❒ ❏ ❐ ❑ ❏ ❐ ❑\n\nJesteś
  samotna/samotny? Szukasz swojej drugiej połówki\, miłości\, flirtu lu
 b przygody? Jeśli tak\, to gorąco zapraszamy Cię w sobotę 28 września
  do klubu #PodPalmą. Już nie musisz się zastanawiać czy dziewczyna/ch
 łopak która/y wpadł/a Ci w oko jest wolna/y\, czy zajęta/y. W czasie n
 aszej imprezy wchodząc do klubu otrzymasz specjalną opaskę w jednym z t
 rzech kolorów. Każdy z nich ma swoje znaczenie i ułatwi znalezienie oso
 by\, która dziś chce bawić się tak jak Ty:\n\n☛ZIELONA - JESTEM WOLN
 A/Y\n☛☛CZERWONA-JESTEM ZAJĘTA/Y\n☛☛☛ŻÓŁTA- SZUKAM WRAŻEŃ!\
 n▬▬▬▬▬▬▬▬▬▬▬▬▬▬▬▬▬▬▬▬▬▬▬▬
 ▬▬▬▬▬▬▬▬▬▬\n\n❊Crazy Mix☛ #MieszamyStyleMuzyki...\
 n♫Będziemy się bawić w rytmach #największych hitów: Latino\, Club\,
  Rnb\, Disco-Polo oraz starych polskich przebojów❗ Imprezę rozkręca 
 ♪DJ Klusek❗\n\n✔Koło godziny 1:00 chusteczka haftowana\nhttp://www.
 youtube.com/watch?v=BvUiNRKcmBQ\n❏ ❐ ❑ ❒ ❏ ❐ ❑ ❒ ❏ ❐ 
 ❑ ❒ ❏ ❐ ❑ ❒ ❏ ❐ ❑ ❐ ❑ ❒ ❏ ❐ ❑ ❏ ❐ ❑\n\
 n>>>>W czasie imprezy: \n✘PIWO BUTELKA: 8 PLN\n✘PIWO LANE: 7 PLN\n✘B
 ANIA 25ML: 3 PLN\n✘WÓDKA 0.5L: 60 PLN\n✘NAPOJE/SOKI 0.2L: 5 PLN\n✘E
 NERGETYK: 7 PLN\n❏ ❐ ❑ ❒ ❏ ❐ ❑ ❒ ❏ ❐ ❑ ❒ ❏ ❐ 
 ❑ ❒ ❏ ❐ ❑ ❐ ❑ ❒ ❏ ❐ ❑ ❏ ❐ ❑\n\n☝Tak imprezow
 aliśmy na ostatniej Tematycznej Sobocie:\nhttp://www.facebook.com/podpalm
 a/photos_stream?tab=photos_albums\n\n❊Loża 30 PLN\n☎Rezerwacja lóż 
 pod numerem (17) 872 39 52\, od poniedziałku do piątku między 9.00 a 17
 .00. Rezerwacja loży ważna jest przez 1 h od momentu rozpoczęcia się d
 anej imprezy! \n❏ ❐ ❑ ❒ ❏ ❐ ❑ ❒ ❏ ❐ ❑ ❒ ❏ ❐ 
 ❑ ❒ ❏ ❐ ❑ ❐ ❑ ❒ ❏ ❐ ❑❏ ❐ ❑\n\n★★★WE'RE O
 PEN FROM 9 PM★ ★★\n\n#ENTRANCE⤵⤵⤵\n✔People from Facebook lis
 t ('Attending') - FREE ENTRY till 10 pm. \n✔Facebook list will be closed
  in a party day at 7 pm. \n✔Others - Tickets 10 PLN!\n\n♫#MUSIC: Polis
 h\, Latino\, Club & Rnb.\n▬▬▬▬▬▬▬▬▬▬▬▬▬▬▬▬
 ▬▬▬▬▬▬▬▬▬▬▬▬▬▬▬▬▬▬
ATTACH;FMTTYPE=image/jpeg:https://night4u.pl/wp-content/uploads/2019/09/61
 151_image_70187925_2485194968193412_4046863141437440000_o.jpg
CATEGORIES:podkarpackie
LOCATION:Pod Palmą\, Cicha4a\, Rzeszów\, 35-326\, Poland
GEO:50.01652;22.00478
X-APPLE-STRUCTURED-LOCATION;VALUE=URI;X-ADDRESS=Cicha4a\, Rzeszów\, 35-326
 \, Poland;X-APPLE-RADIUS=100;X-TITLE=Pod Palmą:geo:50.01652,22.00478
END:VEVENT
BEGIN:VTIMEZONE
TZID:Europe/Warsaw
X-LIC-LOCATION:Europe/Warsaw
BEGIN:DAYLIGHT
DTSTART:20190331T030000
TZOFFSETFROM:+0100
TZOFFSETTO:+0200
TZNAME:CEST
END:DAYLIGHT
END:VTIMEZONE
END:VCALENDAR