BEGIN:VCALENDAR
VERSION:2.0
PRODID:-//wp-events-plugin.com//7.2.3.1//EN
TZID:Europe/Warsaw
X-WR-TIMEZONE:Europe/Warsaw
BEGIN:VEVENT
UID:6039@night4u.pl
DTSTART;TZID=Europe/Warsaw:20190214T210000
DTEND;TZID=Europe/Warsaw:20190215T040000
DTSTAMP:20190201T053227Z
URL:https://night4u.pl/wydarzenia/single-party-studenckie-walentynki-numbe
 r-one/
SUMMARY:Single Party - Studenckie Walentynki - Number One
DESCRIPTION:Przerwa międzysemestralna\, czwartek\, Number One\, Lukasdeeja
 y - taki miks może oznaczać tylko jedno ? EPICKI BALET! ??\nZ okazji Wal
 entynek przygotowaliśmy imprezę dla wszystkich studentów\, której nie 
 można przegapić! \n\nSINGLE PARTY W NUMBER ONE! ❤\nNa wejściu odbierz
  od hostessy opaskę odzwierciedlającą twój status. Pokaż wszystkim\, 
 że jesteś w szczęśliwym związku zakładając opaskę niebieską. Jest
 eś singlem? Załóż opaskę w gorącym czerwonym kolorze oznajmiającą\
 , że jesteś otwarty/otwarta na nowe znajomości i chcesz się dobrze baw
 ić!\n\nMuzycznie imprezę poprowadzi Lukasdeejay\, przygotujcie się wię
 c na studencki BANG  w najlepszym wykonaniu! ???\n\nPROMOCJE STUDENCKIE:\n
 Drink - 5 PLN\nPiwo - 5 PLN\nWhisky – 5 PLN\n---------------------------
 ----------------------------------------------------------\nStery: LukasDe
 eJay || Wstęp: FREE || Rezerwacje: FREE\n--------------------------------
 -----------------------------------------------------\nRezerwacje:\n>Tel: 
 887 688 889 (aktywny w godz. 12:00-21:00)\n>Tel. 56 471 39 36 (aktywny po 
 godz. 21:00)\n------------------------------------------------------------
 -------------------------\nŚledź nas również na Instagramie: numberone
 _club\n-------------------------------------------------------------------
 ------------------
ATTACH;FMTTYPE=image/jpeg:https://night4u.pl/wp-content/uploads/2019/01/18
 104_image_51245450_1181478595373931_5517095262209703936_o.jpg
CATEGORIES:kujawsko-pomorskie
LOCATION:Number One\, Torun\, Poland
GEO:53.010436;18.604753
X-APPLE-STRUCTURED-LOCATION;VALUE=URI;X-ADDRESS=Torun\, Poland;X-APPLE-RADI
 US=100;X-TITLE=Number One:geo:53.010436,18.604753
END:VEVENT
BEGIN:VTIMEZONE
TZID:Europe/Warsaw
X-LIC-LOCATION:Europe/Warsaw
BEGIN:STANDARD
DTSTART:20181028T020000
TZOFFSETFROM:+0200
TZOFFSETTO:+0100
TZNAME:CET
END:STANDARD
END:VTIMEZONE
END:VCALENDAR