BEGIN:VCALENDAR
VERSION:2.0
PRODID:-//wp-events-plugin.com//7.2.3.1//EN
TZID:Europe/Warsaw
X-WR-TIMEZONE:Europe/Warsaw
BEGIN:VEVENT
UID:3075@night4u.pl
DTSTART;TZID=Europe/Warsaw:20190118T210000
DTEND;TZID=Europe/Warsaw:20190119T050000
DTSTAMP:20190108T174340Z
URL:https://night4u.pl/wydarzenia/single-party-znajdz-swoja-milosc-18-01-2
 019/
SUMMARY:Single Party / Znajdź swoją miłość / 18.01.2019
DESCRIPTION:Single Party / Znajdź swoją miłość / 18.01.2019\n\nSzukasz
  swojej prawdziwej miłości? W czasie naszej imprezy wszystkie Singielki 
 i Single będą mogli założyć specjalne opaski koloru zielonego\, a Ci 
 zajęci i zajęte lub "niechętne" otrzymają opaski czerwone. Teraz znale
 zienie twojej połówki będzie na prawdę proste! Spodziewajcie dobrej im
 prezy przy muzyce disco\, lat 80-90 oraz najnowszych radiowych hitach! \n\
 nPromocja na barze! 3x5! \n\n5 zł - Wódka\n5 zł - Piwo \n5 zł - Wino\n
 \nWstęp:\nDo godz. 24:00 wstęp dla kobiet za darmo!\nPo 24:00 Panowie or
 az Panie płacą 15 zł\nStudenci całą noc wstęp FREE! \n\nBANANA DANCE
  CLUB\nul. Szewska 3A\, Wrocław\nRezerwacje miejsc siedzących: http://bi
 t.ly/2q5Aqwg\nOtwarcie klubu: 21:00\nWstęp: 15zł
ATTACH;FMTTYPE=image/jpeg:https://night4u.pl/wp-content/uploads/2019/01/10
 278_image_49635257_2488890148004246_7655307686430375936_o.jpg
CATEGORIES:dolnośląskie
LOCATION:Banana Dance Club\, Szewska 3a\, Wroclaw\, 50-053\, Poland
GEO:51.1078;17.03398
X-APPLE-STRUCTURED-LOCATION;VALUE=URI;X-ADDRESS=Szewska 3a\, Wroclaw\, 50-0
 53\, Poland;X-APPLE-RADIUS=100;X-TITLE=Banana Dance Club:geo:51.1078,17.03
 398
END:VEVENT
BEGIN:VTIMEZONE
TZID:Europe/Warsaw
X-LIC-LOCATION:Europe/Warsaw
BEGIN:STANDARD
DTSTART:20181028T020000
TZOFFSETFROM:+0200
TZOFFSETTO:+0100
TZNAME:CET
END:STANDARD
END:VTIMEZONE
END:VCALENDAR