BEGIN:VCALENDAR
VERSION:2.0
PRODID:-//wp-events-plugin.com//7.2.3.1//EN
TZID:Europe/Warsaw
X-WR-TIMEZONE:Europe/Warsaw
BEGIN:VEVENT
UID:51309@night4u.pl
DTSTART;TZID=Europe/Warsaw:20210910T220000
DTEND;TZID=Europe/Warsaw:20210910T220000
DTSTAMP:20210910T193203Z
URL:https://night4u.pl/wydarzenia/sixa-drumotematyka-z-fokuspokahontaz-krz
 yku-5cet-dr-black/
SUMMARY:SiXa | Drumotematyka z FOKUS(pokahontaz)\, Krzyku\, 5cet\, dr Black
DESCRIPTION:10 września zapraszamy Was na kolejną edycję DRUMOTEMATYKI! 
 \n\nW najbliższy piątek mikrofon w SiXie przejmie żywa legenda polskieg
 o rapu.. FOKUS!🔥🔥 Znany Wam z całą pewnością z takich projektów
  jak Paktofonika czy Pokahontaz. Będzie to wyjątkowa okazja\, żeby usł
 yszeć go przy akompaniamencie muzyki d'n'b🥁🔊\n\nLive:\n🎤 FOKUS(p
 okahontaz)\n\nO połamane dźwięki tego dnia zadbają:\n🎧 Krzyku (Scre
 am Music)\n🎧 5cet\n🎧 dr black\n\n___________________________________
 ______\n>DJ START: 22:00\n>BILETY: do 00:00 20 pln\, po 00:00 30 pln\n>WEJ
 ŚCIE: 21+\n_________________________________________\nInformacje:\nSiXa\n
 ul. 3 Maja 23/3\nKatowice\ntel.: 884 905 168\ne-mail: manager@rajzefiber.c
 om
ATTACH;FMTTYPE=image/jpeg:https://night4u.pl/wp-content/uploads/2021/09/18
 6989_image_241288165_4904153692946265_1127540553070461712_n.jpg
CATEGORIES:śląskie
LOCATION:SiXa\, 3-go Maja 23/3\, Katowice\, 40-097\, Poland
GEO:50.25981;19.01673
X-APPLE-STRUCTURED-LOCATION;VALUE=URI;X-ADDRESS=3-go Maja 23/3\, Katowice\,
  40-097\, Poland;X-APPLE-RADIUS=100;X-TITLE=SiXa:geo:50.25981,19.01673
END:VEVENT
BEGIN:VTIMEZONE
TZID:Europe/Warsaw
X-LIC-LOCATION:Europe/Warsaw
BEGIN:DAYLIGHT
DTSTART:20210328T030000
TZOFFSETFROM:+0100
TZOFFSETTO:+0200
TZNAME:CEST
END:DAYLIGHT
END:VTIMEZONE
END:VCALENDAR