BEGIN:VCALENDAR
VERSION:2.0
PRODID:-//wp-events-plugin.com//7.2.3.1//EN
TZID:Europe/Warsaw
X-WR-TIMEZONE:Europe/Warsaw
BEGIN:VEVENT
UID:45868@night4u.pl
DTSTART;TZID=Europe/Warsaw:20200131T220000
DTEND;TZID=Europe/Warsaw:20200201T050000
DTSTAMP:20200131T162922Z
URL:https://night4u.pl/wydarzenia/sixa-open-decks-by-silent-music-01/
SUMMARY:SiXa | Open Decks by Silent Music #01
DESCRIPTION:Silent Music zaprasza na pierwsza edycję z cyklu Open Decks\, 
 ktora daje szanse poczatkujacym DJ oraz tym bardziej doswiadczonym\, ktorz
 y nie mieli okazji jeszcze grać w Sixie.\n\nZaczynamy edycja w klimacie H
 ouse.\n\nLine up:\n\ncanis:minor - (Progressive House) - Katowice \nhttps:
 //soundcloud.com/cmi_canisminor/silent-music-open-decks-i\n\nNuarr - (Tech
  House) - Kraków\nhttps://soundcloud.com/nuarrmusic\n\nTrecorr - (melodic
  &amp\; tech-house) Gliwice\nhttps://soundcloud.com/trecorr/silent-music-o
 pen-decks-i/s-UvCUw?fbclid=IwAR0UnzY8oxJaqF7MX2lOMNXNGao3tDCEYLxCKroOSsNk1
 2OJV7BsaLeGHOs\n\nLime&amp\;Lemon - (Shaman House) Katowice\nhttps://www.m
 ixcloud.com/limenlemon/limelemon-silent-music-open-decks-shaman-house/\n\n
 Molson - (House) Katowice\nhttps://soundcloud.com/molson800/molson-silent-
 music-open-decks-i\n\n+\n\nSilent aka Krzyku (Silent Music) - Katowice\nht
 tps://www.facebook.com/krzykudnb/\n\n\nStart:22\nEnd:5\nTax:15zl\n////////
 //////////////////////////////////////////////////////////////////////////
 //\nKONTAKT\nRafał Krzyku Krzykała \nsilentmusicpl@gmail.com\n530 729 72
 7
ATTACH;FMTTYPE=image/jpeg:https://night4u.pl/wp-content/uploads/2020/01/14
 8903_image_82526942_2949069568457858_962568833221001216_o.jpg
CATEGORIES:śląskie
LOCATION:SiXa\, 3-go Maja 23/3\, Katowice\, 40-097\, Poland
GEO:50.25981;19.01673
X-APPLE-STRUCTURED-LOCATION;VALUE=URI;X-ADDRESS=3-go Maja 23/3\, Katowice\,
  40-097\, Poland;X-APPLE-RADIUS=100;X-TITLE=SiXa:geo:50.25981,19.01673
END:VEVENT
BEGIN:VTIMEZONE
TZID:Europe/Warsaw
X-LIC-LOCATION:Europe/Warsaw
BEGIN:STANDARD
DTSTART:20191027T020000
TZOFFSETFROM:+0200
TZOFFSETTO:+0100
TZNAME:CET
END:STANDARD
END:VTIMEZONE
END:VCALENDAR