BEGIN:VCALENDAR
VERSION:2.0
PRODID:-//wp-events-plugin.com//7.2.3.1//EN
TZID:Europe/Warsaw
X-WR-TIMEZONE:Europe/Warsaw
BEGIN:VEVENT
UID:45857@night4u.pl
DTSTART;TZID=Europe/Warsaw:20210910T220000
DTEND;TZID=Europe/Warsaw:20210911T060000
DTSTAMP:20210908T144903Z
URL:https://night4u.pl/wydarzenia/sixa-silent-music-presents-dygresja-w-sz
 arosci/
SUMMARY:ZMIANA DATY! SiXa - DYGRESJA W SZAROŚCI
DESCRIPTION:UWAGA!\n\nKochani z przykrością informujemy\, że długo wycz
 ekiwana "Dygresja w Szarości" nie odbędzie się w zakładanym przez nas 
 terminie. Niestety kilka czynników wpłynęło na podjęcie tej decyzji\,
  mimo że do końca wierzyliśmy w powodzenie tego eventu\, w dniu 10 wrze
 śnia. W najbliższych dniach podamy Wam ostateczną datę wydarzenia. \n\
 nNiemniej jednak nie pozostawiamy Was tego dnia bez 175 bpm'ów! \n\nW naj
 bliższy piątek postanowiliśmy zorganizować dla Was DRUMOTEMATYKĘ z ud
 ziałem żywej legendy polskiego rapu - FOKUSA!! Znanego Wam z całą pewn
 ością z takich projektów jak Paktofonika czy Pokahontaz. Będzie to wyj
 ątkowa okazja\, żeby usłyszeć go przy akompaniamencie muzyki d'n'b.\n\
 nO połamane dźwięki tego dnia zadbają:\nKrzyku\n5cet\ndr black\n\n\n__
 _____________________________________\n\nSilent Music zaprasza na kontynua
 cje cyklu Dygresja w Szarości\, która narodziła się w 2009r\, w legend
 arnym klubie INQbator \n\nDygresja to odbicie od szarych standardowych imp
 rez\, dodaje koloru żywymi instrumentami perkusji\, saksofonu\, wokalu\, 
 beatboxu a to wszystko improwizując na najnowocześniejszym sprzęcie do 
 mixu\, loopu oraz z elementami interaktywnej syntezy w czasie rzeczywistym
 \,\nBędzie to połączony live performance z dj setami w klimacie Drum n 
 Bass.\n\n🔻🔻🔻🔻🔻\n\nLive:\nMore info soon..\n\nDJ's:\nMore in
 fo soon..\n\nTax: more info soon..\nStart 22\nEND: ????\n\n▬▬▬▬▬
 ▬▬▬▬▬▬▬▬▬▬▬▬\n🔻Patroni medialni🔻\n\nSilent M
 usic\n➡️ https://www.facebook.com/Silent-Music/\n\nSinusoyda\n➡️ h
 ttps://www.facebook.com/Sinusoyda/\n\nScream Music\n➡️ https://www.fac
 ebook.com/Screammusicpl/\n\nBASSLINE\n➡️ www.facebook.com/basslinepl\n
 \nElektrowkręta\n➡️ https://www.facebook.com/elektrowkreta/\n\nSonic 
 Nation Events\n➡️ https://www.facebook.com/SonicNationEvents/\n\nDrum 
 And Bass Polska \n➡️ www.facebook.com/dnb.polska\n\ndnb.pl\n➡️ www
 .facebook.com/DrumandbassPL\n\nDNB Kraków \n➡️ www.facebook.com/dnbkr
 akow
ATTACH;FMTTYPE=image/jpeg:https://night4u.pl/wp-content/uploads/2021/09/14
 8870_image_241510010_4904113456283622_8447626675924421294_n.jpg
CATEGORIES:śląskie
LOCATION:SiXa\, 3-go Maja 23/3\, Katowice\, 40-097\, Poland
GEO:50.25981;19.01673
X-APPLE-STRUCTURED-LOCATION;VALUE=URI;X-ADDRESS=3-go Maja 23/3\, Katowice\,
  40-097\, Poland;X-APPLE-RADIUS=100;X-TITLE=SiXa:geo:50.25981,19.01673
END:VEVENT
BEGIN:VTIMEZONE
TZID:Europe/Warsaw
X-LIC-LOCATION:Europe/Warsaw
BEGIN:DAYLIGHT
DTSTART:20210328T030000
TZOFFSETFROM:+0100
TZOFFSETTO:+0200
TZNAME:CEST
END:DAYLIGHT
END:VTIMEZONE
END:VCALENDAR