BEGIN:VCALENDAR
VERSION:2.0
PRODID:-//wp-events-plugin.com//7.2.3.1//EN
TZID:Europe/Warsaw
X-WR-TIMEZONE:Europe/Warsaw
BEGIN:VEVENT
UID:11717@night4u.pl
DTSTART;TZID=Europe/Warsaw:20190403T220000
DTEND;TZID=Europe/Warsaw:20190404T040000
DTSTAMP:20190403T193536Z
URL:https://night4u.pl/wydarzenia/skndl-z-dj-seli-3-04/
SUMMARY:SKNDL z Dj Seli - 3.04
DESCRIPTION:SKNDL z Dj Seli - 3.04\n\nDziewczyno\, chłopaku! Nie siedź w 
 domu!\nZbieraj manatki i uderzaj na miasto. Adres jest jeden - Mostowa 4\n
 \nJak co środę:\n50% BAR OFF do 23:00\nRezerwacje FREE!\nSTUDENCI wstęp
  free\n\nTo jest SKANDAL!\n\nMuzycznie sodowy wyjadacz Dj Seli – nigdy n
 ie zawodzi\n\nStart + 22:00\nRSVD 693 99 44 24\nSODA 2.0 club & lounge bar
 \nEnjoy nights to remember
ATTACH;FMTTYPE=image/jpeg:https://night4u.pl/wp-content/uploads/2019/04/30
 125_image_56304272_2959882400692249_6471288458231939072_n.jpg
CATEGORIES:kujawsko-pomorskie
LOCATION:SODA 2.0 club & lounge bar\, Mostowa 4\, Bydgoszcz\, 85-110\, Pola
 nd
GEO:53.12262;18.001657
X-APPLE-STRUCTURED-LOCATION;VALUE=URI;X-ADDRESS=Mostowa 4\, Bydgoszcz\, 85-
 110\, Poland;X-APPLE-RADIUS=100;X-TITLE=SODA 2.0 club & lounge bar:geo:53.
 12262,18.001657
END:VEVENT
BEGIN:VTIMEZONE
TZID:Europe/Warsaw
X-LIC-LOCATION:Europe/Warsaw
BEGIN:DAYLIGHT
DTSTART:20190331T030000
TZOFFSETFROM:+0100
TZOFFSETTO:+0200
TZNAME:CEST
END:DAYLIGHT
END:VTIMEZONE
END:VCALENDAR