BEGIN:VCALENDAR
VERSION:2.0
PRODID:-//wp-events-plugin.com//7.2.3.1//EN
TZID:Europe/Warsaw
X-WR-TIMEZONE:Europe/Warsaw
BEGIN:VEVENT
UID:6870@night4u.pl
DTSTART;TZID=Europe/Warsaw:20190224T203000
DTEND;TZID=Europe/Warsaw:20190224T230000
DTSTAMP:20190210T154433Z
URL:https://night4u.pl/wydarzenia/sky-i-diplodok-i-24-02-i-uczulenie/
SUMMARY:SKY I Diplodok I 24.02 I Uczulenie
DESCRIPTION:Uczulenie / Czuła jest noc & U n i c o r n\nzapraszają na nie
 dzielny seans hipnotyczny z udziałem \n\nSKY (sorrowkillsyouth) / [wwa]\n
 dark wave / witch house / noise / experimental\n\nSKY to dźwiękowy rytua
 ł egzorcyzmowania smutku i lęków. W swoich nagraniach\, używając jęz
 yka snu i koszmaru\, onirycznych harmonii wokalnych i melancholijnych pasa
 ży syntezatora\, SKY stara się wywołać duchy przeszłości i uśpić w
 ewnętrzne demony. W jej piosenkach wybrzmiewa klimat zaginionego epizodu 
 serialu Twin Peaks. \n\nSKY ma na swoim koncie debiutancką EPkę „lulla
 bies” (Trzy szóstki\, Black Verb Records\, Popnihil)\, 13 minutowy utw
 ór „c r a v e”\, skomponowany do wyedytowanych scen z filmu Bertranda
  Bonello oraz wydany w listopadzie longplay zatytułowany „p r e y” (T
 rzy szóstki\, Baby Satan Records). Oprócz produkcji muzyki\, SKY odpowia
 da również za wizualne aspekty swojego projektu\, w tym wideoklipy.\n\nO
 d czasu swojego debiutu\, SKY zagrała ponad 40 koncertów w kraju i za gr
 anicą (Czechy\, Słowacja\, Austria\, Niemcy\, Chorwacja\, Słowenia\, Bo
 śnia i Hercegowina\, Holandia)\, występując między innymi u boku takic
 h artystów jak Bleib Modern\, Soft Kill czy Xarah Dion.\n\nSKY tworzy ró
 wnież duet z K. - ₲ardeŋ ɵƒ\, którego debiutancka płyta ukazała s
 ię w tym roku. Poza tworzeniem muzyki\, SKY stara się również wspiera
 ć innych artystów\, organizując koncerty pod pseudonimem U n i c o r n.
 \n\nBC:  https://sorrowkillsyouth.bandcamp.com/ \nFP: https://www.facebook
 .com/sorrowkillsyouth/    \nIN: https://www.instagram.com/sorrowkillsyouth
 /  \n\nh e a d s h o t https://youtu.be/Q0XVme1nEnM \nc r a v e https://yo
 utu.be/Q7KCYBXgImw  \nFAKINGDREAMS https://youtu.be/HdBazPsaGiA   \n  \nDi
 plodok [wro]\ntrip hop / downtempo / experimental\n\nZwierze łagodne i ro
 ślinożerne narodzone w roku 2016 n.e. Duet Maja/Miłosz tworzy eksperyme
 ntalny pop\, bogatszy o trip-hopowe brzmienia. Zupa z gitary\, klawisza i 
 wokali. Zdrowa\,pożywna\, koszerna\, cedrowy ogon.\n\nSC: https://soundcl
 oud.com/otakerecords/sets/diplodok-age-of-course-otake-022\nFP: https://ww
 w.facebook.com/diplodokszyja/\n\n~~~~\ntax 15 unicorns
ATTACH;FMTTYPE=image/jpeg:https://night4u.pl/wp-content/uploads/2019/02/20
 041_image_51727788_2323948511171396_616929132462211072_o.jpg
CATEGORIES:dolnośląskie
LOCATION:Czuła jest noc\, ulica Kolejowa 8\, Wroclaw\, 53-508\, Poland
GEO:51.10137;17.0232
X-APPLE-STRUCTURED-LOCATION;VALUE=URI;X-ADDRESS=ulica Kolejowa 8\, Wroclaw\
 , 53-508\, Poland;X-APPLE-RADIUS=100;X-TITLE=Czuła jest noc:geo:51.10137,
 17.0232
END:VEVENT
BEGIN:VTIMEZONE
TZID:Europe/Warsaw
X-LIC-LOCATION:Europe/Warsaw
BEGIN:STANDARD
DTSTART:20181028T020000
TZOFFSETFROM:+0200
TZOFFSETTO:+0100
TZNAME:CET
END:STANDARD
END:VTIMEZONE
END:VCALENDAR