BEGIN:VCALENDAR
VERSION:2.0
PRODID:-//wp-events-plugin.com//7.2.3.1//EN
TZID:Europe/Warsaw
X-WR-TIMEZONE:Europe/Warsaw
BEGIN:VEVENT
UID:50898@night4u.pl
DTSTART;TZID=Europe/Warsaw:20210923T210000
DTEND;TZID=Europe/Warsaw:20210924T050000
DTSTAMP:20210908T144820Z
URL:https://night4u.pl/wydarzenia/slaska-inauguracja-studencka-%e2%98%86-2
 3-09-%e2%98%86-krolestwo-%e2%98%86/
SUMMARY:Śląska Inauguracja Studencka ☆ 23.09 ☆ Królestwo ☆
DESCRIPTION:♥♡ Przedstawiamy Śląską Inaugurację Studencką ♥♡\n
 \nCo zrobić żeby w nowy rok akademicki wejść z odpowiednią pompą?\n\
 n☞☞ Przyjść na najlepszą imprezę w mieście!\n☞☞ Zgarnąć kaw
 ałek parkietu i bawić się całą noc!\n☞☞ Nie oszczędzać się na 
 beforze i afterze!\n☞☞ Poznać mnóstwo nowych osób!\n☞☞ Zdobyć 
 jedyne niepowtarzalne wspomnienia!\n\nTo wszystko i jeszcze więcej tylko 
 i wyłącznie na Śląskiej Inauguracji Studenckiej w klubie Królestwo!\n
 ------------------------------------\n\n23 września na nowo zdefiniujecie
  pojęcie najlepszej imprezy bo takiego melanżu jeszcze nie przeżyliści
 e!\n\nGdzie? - Klub Królestwo\nKiedy? - 23 września 2021\nO której? - 2
 1.00\nDo której? - Do której starczy sił ^^\n\n📢 UWAGA 📢 Dołącz
 cie również do pozostałych wydarzeń\, których nie możecie przegapić
  👉 ❗️❗️\n\n🕺 Śląska Integracja Studencka - https://fb.me/e
 /5EWob5ewo\n💃 Wielkie Otrzęsiny Śląska -\n\n------------------------
 ------------\n📢 INFO O BILETACH 📢\n\nLink do biletów w przedsprzeda
 ży 👉http://kbq.pl/61977 \n\nW dniu imprezy od godz. 21:00 do godz. 22:
 00 bilety po 20 zł dla osób\, które kliknęły "wezmę udział" na wyda
 rzeniu. Nie mylić z zainteresowanymi!\n\nPo godz. 22:00 bilety po 30 zł.
  \n\n------------------------------------\n\nRegulamin imprezy:\n1.Impreza
  odbywa się w godzinach 21.00 – 5.00\n2.Impreza odbywa się wyłącznie
  na terenie lokalów wymienionych na wydarzeniu!\n3.Do zakupu opaski i udz
 iału w imprezie upoważnione są jedyne osoby które ukończyły 18 lat (
 okazać można legitymację studencką lub dowód osobisty/prawo jazdy)\n4
 .Zakupiony bilet nie podlega zwrotowi.
ATTACH;FMTTYPE=image/jpeg:https://night4u.pl/wp-content/uploads/2021/08/18
 5769_image_182658602_1205422156581440_5442311999492153841_n.jpg
CATEGORIES:śląskie
LOCATION:Królestwo\, Rondo im. gen. Jerzego Ziętka 1\, Katowice\, 40-121\
 , Poland
GEO:50.264393;19.023467
X-APPLE-STRUCTURED-LOCATION;VALUE=URI;X-ADDRESS=Rondo im. gen. Jerzego Zię
 tka 1\, Katowice\, 40-121\, Poland;X-APPLE-RADIUS=100;X-TITLE=Królestwo:g
 eo:50.264393,19.023467
END:VEVENT
BEGIN:VTIMEZONE
TZID:Europe/Warsaw
X-LIC-LOCATION:Europe/Warsaw
BEGIN:DAYLIGHT
DTSTART:20210328T030000
TZOFFSETFROM:+0100
TZOFFSETTO:+0200
TZNAME:CEST
END:DAYLIGHT
END:VTIMEZONE
END:VCALENDAR