BEGIN:VCALENDAR
VERSION:2.0
PRODID:-//wp-events-plugin.com//7.2.3.1//EN
TZID:Europe/Warsaw
X-WR-TIMEZONE:Europe/Warsaw
BEGIN:VEVENT
UID:48004@night4u.pl
DTSTART;TZID=Europe/Warsaw:20200225T180000
DTEND;TZID=Europe/Warsaw:20200225T210000
DTSTAMP:20200225T161253Z
URL:https://night4u.pl/wydarzenia/sledzik-szantowy-z-grupa-duzego-ryzyka/
SUMMARY:Śledzik Szantowy z Grupą Dużego Ryzyka
DESCRIPTION:25 lutego zapraszamy do klubu A`propos na szantowego śledzika 
 z Grupą Dużego Ryzyka.\n\nW tym roku mamy takie skojarzenia :  ostatki -
  śledzik- morze -morskie opowieści - szanty.\n\nNie zabraknie oczywiści
 e śledzi pod rożną postacią i innych ostatkowych zakąsek\, będzie ta
 kże czym ugasić narastające pragnienie.\n\nWstęp wolny.
ATTACH;FMTTYPE=image/jpeg:https://night4u.pl/wp-content/uploads/2020/02/16
 1721_image_86872707_2660968180622900_7089946778887258112_o.jpg
CATEGORIES:dolnośląskie
LOCATION:A PROPOS\, ul.Wieniawskiego 82\, Wałbrzych\, 58-309\, Poland
GEO:50.817263;16.276605
X-APPLE-STRUCTURED-LOCATION;VALUE=URI;X-ADDRESS=ul.Wieniawskiego 82\, Wałb
 rzych\, 58-309\, Poland;X-APPLE-RADIUS=100;X-TITLE=A PROPOS:geo:50.817263,
 16.276605
END:VEVENT
BEGIN:VTIMEZONE
TZID:Europe/Warsaw
X-LIC-LOCATION:Europe/Warsaw
BEGIN:STANDARD
DTSTART:20191027T020000
TZOFFSETFROM:+0200
TZOFFSETTO:+0100
TZNAME:CET
END:STANDARD
END:VTIMEZONE
END:VCALENDAR