BEGIN:VCALENDAR
VERSION:2.0
PRODID:-//wp-events-plugin.com//7.2.3.1//EN
TZID:Europe/Warsaw
X-WR-TIMEZONE:Europe/Warsaw
BEGIN:VEVENT
UID:4445@night4u.pl
DTSTART;TZID=Europe/Warsaw:20190302T200000
DTEND;TZID=Europe/Warsaw:20190302T230000
DTSTAMP:20190120T192006Z
URL:https://night4u.pl/wydarzenia/slon-w-lodzi/
SUMMARY:SŁOŃ w Łodzi!
DESCRIPTION:Bashesh\, Łódzkie Charaktery oraz SODA Underground Stage z og
 romną przyjemnością zapraszają na koncert SŁOŃ WSRH D666a\n promują
 cy jego najnowszy albumu „MUTYLATOR”\, który odbędzie się 2.marca w
  Łodzi. Słonia wspierał będzie niezawodny DJ Soina\n\nStart: 20:00\nMi
 ejsce: Soda Underground Stage\, Plac Komuny Paryskiej 6\n\nBilety: od 35 p
 ln\nPrzedsprzedaż:\n➡️Sosa-Store - Sukcesja \n➡️Nervous Shop - Pi
 otrkowska 80\n➡️Polski Street Szop - Próchnika 5\nonline:  https://go
 ingapp.pl/evt/2068517/slon-w-lodzi  \n\n\n\n\nOsoby niepełnoletnie\, któ
 re nie ukończyły 18 lat powinny mieć ze sobą pisemną zgodę opiekunó
 w prawnych. Osoby\, które nie ukończyły 16 lat mogę wejść tylko z op
 iekunem prawnym lub osobą pisemnie upoważnioną. Opiekun również musi 
 posiadać bilet. \nWzór zgody: https://bashesh.com/uploads/zgoda.png\n\nB
 ilet upoważnia do jednorazowego wstępu na teren imprezy.\nBilety należy
  kupować tylko w autoryzowanych punktach sprzedaży.\nGodziny podane na b
 ilecie i plakacie mogą ulec zmianie.\nStart imprezy oznacza godzinę o kt
 órej rozpoczynamy wpuszczanie ludzi do klubu\, nie jest on tożsamy ze st
 artem koncertu głównego wykonawcy.\n\nRok po wydaniu ostatniej części 
 trylogii "Czarne Słońce" od WSRH\, Słoń powraca z nowym albumem solowy
 m "Mutylator"!\n\nNa albumie znalazło się siedemnaście premierowych tra
 cków\, w których gościnnie pojawili się: Polska Wersja\, Opał\, Szpak
 u\, King Gordy\, G-Mo Skee oraz Reznik.\n\nNa trasie koncertowej "MUTYLATO
 UR"\, która promuje najnowsze wydawnictwo poznańskiego rapera\, Słoń p
 o raz pierwszy zaprezentuje nowe utwory na żywo! W koncertowej setliście
  z pewnością nie zabraknie też dobrze znanych utworów z takich albumó
 w jak "Brain Dead Familia"\, "Demonologia II" czy "Szkoła Wyrzutków".\n\
 nChcesz być z nami w kontakcie zapraszamy do naszej grupy:\nGrupa Bashesh
  - backstage koncertowy\n\nWidzimy się na miejscu!\n\nWięcej informacji:
  \nhttps://www.facebook.com/bashesh \nhttps://www.facebook.com/wsrh.slon/ 
 \nwww.bashesh.com
ATTACH;FMTTYPE=image/jpeg:https://night4u.pl/wp-content/uploads/2019/01/14
 757_image_49414122_2480357871981410_2353548379201470464_o.jpg
CATEGORIES:łódzkie
LOCATION:SODA Underground Stage\, Plac Komuny Paryskiej 6\, Łódź\, 90-00
 7\, Poland
GEO:51.76518;19.45941
X-APPLE-STRUCTURED-LOCATION;VALUE=URI;X-ADDRESS=Plac Komuny Paryskiej 6\, 
 Łódź\, 90-007\, Poland;X-APPLE-RADIUS=100;X-TITLE=SODA Underground Stag
 e:geo:51.76518,19.45941
END:VEVENT
BEGIN:VTIMEZONE
TZID:Europe/Warsaw
X-LIC-LOCATION:Europe/Warsaw
BEGIN:STANDARD
DTSTART:20181028T020000
TZOFFSETFROM:+0200
TZOFFSETTO:+0100
TZNAME:CET
END:STANDARD
END:VTIMEZONE
END:VCALENDAR