BEGIN:VCALENDAR
VERSION:2.0
PRODID:-//wp-events-plugin.com//7.2.3.1//EN
TZID:Europe/Warsaw
X-WR-TIMEZONE:Europe/Warsaw
BEGIN:VEVENT
UID:40888@night4u.pl
DTSTART;TZID=Europe/Warsaw:20200229T200000
DTEND;TZID=Europe/Warsaw:20200229T230000
DTSTAMP:20200229T163503Z
URL:https://night4u.pl/wydarzenia/slon-x-dope-dod-poznan-29-02-2020/
SUMMARY:SŁOŃ X Dope DOD | Poznań 29.02.2020
DESCRIPTION:Klub Muzyczny B17 oraz Agencja Muzyczno-Eventowa Bashesh\, z og
 romną przyjemnością zapraszają na koncert promujący wspólny projekt 
 SŁOŃ WSRH D666a i Dope D.O.D. „Sick6Six”\, który odbędzie się 29.
 02.2020. w Poznaniu.\n\nStart/drzwi: 20:00\nMiejsce: Klub Muzyczny B17\, u
 l. Bułgarska 17\, Poznań\n\nBilety od 45 PLN\nPrzedsprzedaż:\n•	Onlin
 e na Ticketos: https://ticketos.pl/event/2928\n\n\nSupport: Floral Bugs\n\
 nWydarzenie na FB: https://www.facebook.com/events/2499146307077699/\n\n\n
 „Sick6Six” to osiem utworów stworzonych w kolaboracji Słonia z holen
 derskim składem Dope D.O.D.! Zgodnie z zapowiedziami\, pojawi się tutaj 
 kilku gości z zagranicy oraz jeden z Polski. Wśród producentów znajdzi
 emy ścisłą czołówkę polskiej sceny hip-hopowej oraz nadwornego produ
 centa Dope D.O.D. - Chubeats’a.\n\nSłoń o początkach współpracy z D
 ope D.O.D. oraz nadchodzącej EP: „Z Dope’ami poznałem się kilka lat
  temu przy okazji ich koncertu w Poznaniu i w zasadzie od samego początku
  złapaliśmy te same fale nadawania. Oprócz tego\, że się prywatnie po
 lubiliśmy\, to wychowaliśmy się na tym samym rapie co bardzo ułatwia w
 spółpracę\, bo mamy niemal identyczne podejście do muzyki. EP jest def
 inicją rapu jaki znam i sam słucham\, a różnorodność producentów ur
 ozmaica brzmienie całości. Bardzo się jaram tą współpracą\, zapnij 
 pas i załóż kask gościu!”\n\n\nOsoby niepełnoletnie\, które nie uk
 ończyły 18 lat powinny mieć ze sobą pisemną zgodę opiekunów prawnyc
 h. Osoby\, które nie ukończyły 16 lat mogę wejść tylko z opiekunem p
 rawnym lub osobą pisemnie upoważnioną. Opiekun również musi posiadać
  bilet. \nWzór zgody: https://bashesh.com/uploads/zgoda.png\n\nBilet upow
 ażnia do jednorazowego wstępu na teren imprezy.\nBilety należy kupować
  tylko w autoryzowanych punktach sprzedaży.\nGodziny podane na bilecie i 
 plakacie mogą ulec zmianie.\nStart imprezy oznacza godzinę o której roz
 poczynamy wpuszczanie ludzi do klubu\, nie jest on tożsamy ze startem kon
 certu głównego wykonawcy.\n\nWidzimy się na miejscu!\n\nWięcej informa
 cji: \nhttps://www.facebook.com/b17klub/\nhttps://www.facebook.com/wsrh.sl
 on/\nhttps://www.facebook.com/bashesh \nwww.bashesh.com
ATTACH;FMTTYPE=image/jpeg:https://night4u.pl/wp-content/uploads/2019/12/12
 6718_image_80583959_2741657889222964_8842755200474152960_o.jpg
CATEGORIES:wielkopolskie
LOCATION:Klub Muzyczny B17\, Bułgarska 17\, Poznan\, 60-320\, Poland
GEO:52.397137;16.859419
X-APPLE-STRUCTURED-LOCATION;VALUE=URI;X-ADDRESS=Bułgarska 17\, Poznan\, 60
 -320\, Poland;X-APPLE-RADIUS=100;X-TITLE=Klub Muzyczny B17:geo:52.397137,1
 6.859419
END:VEVENT
BEGIN:VTIMEZONE
TZID:Europe/Warsaw
X-LIC-LOCATION:Europe/Warsaw
BEGIN:STANDARD
DTSTART:20191027T020000
TZOFFSETFROM:+0200
TZOFFSETTO:+0100
TZNAME:CET
END:STANDARD
END:VTIMEZONE
END:VCALENDAR