BEGIN:VCALENDAR
VERSION:2.0
PRODID:-//wp-events-plugin.com//7.2.3.1//EN
TZID:Europe/Warsaw
X-WR-TIMEZONE:Europe/Warsaw
BEGIN:VEVENT
UID:51260@night4u.pl
DTSTART;TZID=Europe/Warsaw:20210827T210000
DTEND;TZID=Europe/Warsaw:20210828T040000
DTSTAMP:20210827T135946Z
URL:https://night4u.pl/wydarzenia/smells-like-the-90s-i-27-08-i-lista-fb-f
 ree/
SUMMARY:Smells Like The 90s I 27.08 I lista FB free
DESCRIPTION:W 1991 roku ukazały się najgłośniejsze płyty Nirvany\, Pea
 rl Jam i Soundgarden. Z drugiej strony – ukazało się wiele płyt kszta
 łtujących muzykę taneczną. Czy da się zrobić z tego imprezowy mix?Za
 pewniamy\, że tak! Cofnij się do przeszłości i zatrzymaj się z nami w
  latach 90!\n\nklub jest otwarty o 21:00\nstart imprezy: 22:00\n\nlista fb
  free do 23:30 - 0 zł\nlista Fb - 10 zł\npozostali - 15 zł\n___\nRzerwa
 cja stolików:\nhydrozagadka.bar@gmail.com lub piszcie wiadomości prywatn
 e na fanpage'u
ATTACH;FMTTYPE=image/jpeg:https://night4u.pl/wp-content/uploads/2021/08/18
 6763_image_240640001_4473388429365909_7120500505055452588_n.jpg
CATEGORIES:mazowieckie
LOCATION:Klub Hydrozagadka\, 11 listopada 22\, 03-436 Warszawa\, Poland\, P
 raga\, 03-436\, Poland
GEO:52.259283;21.036925
X-APPLE-STRUCTURED-LOCATION;VALUE=URI;X-ADDRESS=11 listopada 22\, 03-436 Wa
 rszawa\, Poland\, Praga\, 03-436\, Poland;X-APPLE-RADIUS=100;X-TITLE=Klub 
 Hydrozagadka:geo:52.259283,21.036925
END:VEVENT
BEGIN:VTIMEZONE
TZID:Europe/Warsaw
X-LIC-LOCATION:Europe/Warsaw
BEGIN:DAYLIGHT
DTSTART:20210328T030000
TZOFFSETFROM:+0100
TZOFFSETTO:+0200
TZNAME:CEST
END:DAYLIGHT
END:VTIMEZONE
END:VCALENDAR