BEGIN:VCALENDAR
VERSION:2.0
PRODID:-//wp-events-plugin.com//7.2.3.1//EN
TZID:Europe/Warsaw
X-WR-TIMEZONE:Europe/Warsaw
BEGIN:VEVENT
UID:5459@night4u.pl
DTSTART;TZID=Europe/Warsaw:20190202T210000
DTEND;TZID=Europe/Warsaw:20190203T040000
DTSTAMP:20190130T175823Z
URL:https://night4u.pl/wydarzenia/smile-party-w-club-nafta/
SUMMARY:Smile Party w Club Nafta
DESCRIPTION:Zimowe wieczory nie muszą być smutne. Uśmiechajcie się do s
 iebie więcej\, a dostaniecie od nas promo ceny :D\n\n❌❌❌\n\nHAPPY H
 OUR\ndo 22:00 dziewczyny\, które uśmiechną się na wejściu wchodzą za
  5 zł\n\n❌❌❌\n\nPROMO BAR\nza jeden uśmiech nasze barmanki przygot
 ują Wam SMILE KAMIKAZE w cenie 15 zł\n\n❌❌❌\n\nNAFTA MUSIC\nuśmie
 chnięty DJ LENZO\n\n❌❌❌\n\nWJAZD\n16 zł\nWiek: +21\n\n❌❌❌\n\
 nREZERWACJE LOŻY:\nTEL: 785 930 565
ATTACH;FMTTYPE=image/jpeg:https://night4u.pl/wp-content/uploads/2019/01/16
 834_image_51112596_1396219613848280_1941091520031490048_o.jpg
CATEGORIES:podkarpackie
LOCATION:Club Nafta\, ul. Lwowska 21\, Krosno\, 38-440\, Poland
GEO:49.683733;21.772154
X-APPLE-STRUCTURED-LOCATION;VALUE=URI;X-ADDRESS=ul. Lwowska 21\, Krosno\, 3
 8-440\, Poland;X-APPLE-RADIUS=100;X-TITLE=Club Nafta:geo:49.683733,21.7721
 54
END:VEVENT
BEGIN:VTIMEZONE
TZID:Europe/Warsaw
X-LIC-LOCATION:Europe/Warsaw
BEGIN:STANDARD
DTSTART:20181028T020000
TZOFFSETFROM:+0200
TZOFFSETTO:+0100
TZNAME:CET
END:STANDARD
END:VTIMEZONE
END:VCALENDAR