BEGIN:VCALENDAR
VERSION:2.0
PRODID:-//wp-events-plugin.com//7.2.3.1//EN
TZID:Europe/Warsaw
X-WR-TIMEZONE:Europe/Warsaw
BEGIN:VEVENT
UID:37705@night4u.pl
DTSTART;TZID=Europe/Warsaw:20191226T210000
DTEND;TZID=Europe/Warsaw:20191227T043000
DTSTAMP:20191226T053452Z
URL:https://night4u.pl/wydarzenia/smolasty-%e2%98%85-energiczny-szczepan-%
 e2%98%85-czwartek-26-12/
SUMMARY:SMOLASTY ★ ENERGICZNY SZCZEPAN ★ Czwartek 26.12
DESCRIPTION:SMOLASTY ★ ENERGICZNY SZCZEPAN\nCZW 26.12.19 ★ ENERGY 2000 
 PRZYTKOWICE\nPo krótkiej adwentowej przerwie\, zapraszamy Was na "ENERGIC
 ZNEGO SZCZEPANA"! W czwartek 26 grudnia \nna naszej energicznej scenie poj
 awi się jedyny i niepowtarzalny SMOLASTY! Twórca hitów: "Uzależniony"\
 , "Fake Love"\, "Raj"\, "Tusz" i wielu innych. Tego wydarzenia naprawdę n
 ie możecie przegapić! Oprócz koncertu\, czekać na Was będzie prawdziw
 a inwazja firmowych gadżetów! \n\nUWAGA! Na wejściu dla pierwszych 500 
 osób premierowy ENERGY MIX VOL. 64!\n\nZagrają: \nMain Stage: Thomas | D
 on Pablo &amp\; Daniels\nSala Dance: DeSebastiano &amp\; MATT G\nSala VIP:
  Skrzypa\n\nBilety: 15 PLN | Wiek: +16 lat | Start: 21:00\n\nPROMOCJA / UR
 ODZINY/KAWALERSKIE/PANIEŃSKIE - NIEAKTYWNE.\n\nZasady promocji znajdziesz
  w naszym FAQ. \nRezerwacja loży ON-LINE na naszej stronie www:\nhttps://
 przytkowice.energy2000.pl/rezerwacje/\nlub TELEFONICZNIE pod nr. \nTel. +4
 8 33 876 88 12 wew.23 \nod pon. do pt. w godz. 8-16.\nZapraszamy!
ATTACH;FMTTYPE=image/jpeg:https://night4u.pl/wp-content/uploads/2019/12/10
 5876_image_78902037_2754531291259966_2414837257572712448_o.jpg
CATEGORIES:małopolskie
LOCATION:Energy 2000 Przytkowice\, Przytkowice 532 a\, Przytkowice\, 34-141
 \, Poland
GEO:49.902767;19.693146
X-APPLE-STRUCTURED-LOCATION;VALUE=URI;X-ADDRESS=Przytkowice 532 a\, Przytko
 wice\, 34-141\, Poland;X-APPLE-RADIUS=100;X-TITLE=Energy 2000 Przytkowice:
 geo:49.902767,19.693146
END:VEVENT
BEGIN:VTIMEZONE
TZID:Europe/Warsaw
X-LIC-LOCATION:Europe/Warsaw
BEGIN:STANDARD
DTSTART:20191027T020000
TZOFFSETFROM:+0200
TZOFFSETTO:+0100
TZNAME:CET
END:STANDARD
END:VTIMEZONE
END:VCALENDAR