BEGIN:VCALENDAR
VERSION:2.0
PRODID:-//wp-events-plugin.com//7.2.3.1//EN
TZID:Europe/Warsaw
X-WR-TIMEZONE:Europe/Warsaw
BEGIN:VEVENT
UID:5997@night4u.pl
DTSTART;TZID=Europe/Warsaw:20190208T193000
DTEND;TZID=Europe/Warsaw:20190208T193000
DTSTAMP:20190131T221210Z
URL:https://night4u.pl/wydarzenia/smolasty-zakonczenie-ferii-kartell-club/
SUMMARY:Smolasty + Zakończenie Ferii/ Kartell Club
DESCRIPTION:Przenosimy się wszyscy do Kartell Club! 
ATTACH;FMTTYPE=image/jpeg:https://night4u.pl/wp-content/uploads/2019/01/18
 019_image_47285530_2091176497587751_152516260070948864_n.jpg
CATEGORIES:zachodniopomorskie
LOCATION:Kartell Event Club\, Jagiellońska 67B\, Szczecin\, 70-382\, Polan
 d
GEO:53.432833;14.531283
X-APPLE-STRUCTURED-LOCATION;VALUE=URI;X-ADDRESS=Jagiellońska 67B\, Szczeci
 n\, 70-382\, Poland;X-APPLE-RADIUS=100;X-TITLE=Kartell Event Club:geo:53.4
 32833,14.531283
END:VEVENT
BEGIN:VTIMEZONE
TZID:Europe/Warsaw
X-LIC-LOCATION:Europe/Warsaw
BEGIN:STANDARD
DTSTART:20181028T020000
TZOFFSETFROM:+0200
TZOFFSETTO:+0100
TZNAME:CET
END:STANDARD
END:VTIMEZONE
END:VCALENDAR