BEGIN:VCALENDAR
VERSION:2.0
PRODID:-//wp-events-plugin.com//7.2.3.1//EN
TZID:Europe/Warsaw
X-WR-TIMEZONE:Europe/Warsaw
BEGIN:VEVENT
UID:19469@night4u.pl
DTSTART;TZID=Europe/Warsaw:20190622T233000
DTEND;TZID=Europe/Warsaw:20190623T080000
DTSTAMP:20190617T200536Z
URL:https://night4u.pl/wydarzenia/smolna-blazej-malinowski-jurek-przezdzie
 cki-private-press/
SUMMARY:Smolna: Blazej Malinowski\, Jurek Przezdziecki\, Private Press
DESCRIPTION:SMOLNA\n▬▬▬▬▬▬▬▬▬▬▬▬▬▬\nBlazej Mali
 nowski\nRA: https://www.residentadvisor.net/dj/blazejmalinowski\nFB: https
 ://www.facebook.com/malinowskiblazej/\n\nJurek Przezdziecki live\nRA: http
 s://www.residentadvisor.net/dj/jurekprzezdziecki\nFB: https://www.facebook
 .com/Jurek.Przezdziecki/\n\nPrivate Press live\nRA: https://www.residentad
 visor.net/dj/privatepress\nFB: https://www.facebook.com/privatepressPL\n\n
 Violent\nRA: https://www.residentadvisor.net/dj/violent\nFB: https://www.f
 acebook.com/violent.official\n\nPATIO\n▬▬▬▬▬▬▬▬▬▬▬
 ▬▬▬\nGigi & Tenes\nFB: \nFB: https://www.facebook.com/OfficialGigi\n
 \n▬▬▬▬▬▬▬▬▬▬▬▬▬▬▬\nwww.smolna38.com\n\nrules
 :\nno pre-sale\nno photo policy\ndoorman\n\n22.06.2019 | 23:30 | Tix 20/30
  | After 5:00 - 20 pln\n▬▬▬▬▬▬▬▬▬▬▬▬▬▬▬▬
 ▬▬▬▬▬▬▬▬▬▬▬▬▬▬▬▬▬▬▬▬▬▬▬▬
 ▬
ATTACH;FMTTYPE=image/jpeg:https://night4u.pl/wp-content/uploads/2019/06/46
 931_image_64323795_2281799545469680_5176703539040223232_o.jpg
CATEGORIES:mazowieckie
LOCATION:Smolna\, Smolna 38\, Warsaw\, 00-375\, Poland
GEO:52.23265;21.02166
X-APPLE-STRUCTURED-LOCATION;VALUE=URI;X-ADDRESS=Smolna 38\, Warsaw\, 00-375
 \, Poland;X-APPLE-RADIUS=100;X-TITLE=Smolna:geo:52.23265,21.02166
END:VEVENT
BEGIN:VTIMEZONE
TZID:Europe/Warsaw
X-LIC-LOCATION:Europe/Warsaw
BEGIN:DAYLIGHT
DTSTART:20190331T030000
TZOFFSETFROM:+0100
TZOFFSETTO:+0200
TZNAME:CEST
END:DAYLIGHT
END:VTIMEZONE
END:VCALENDAR