BEGIN:VCALENDAR
VERSION:2.0
PRODID:-//wp-events-plugin.com//7.2.3.1//EN
TZID:Europe/Warsaw
X-WR-TIMEZONE:Europe/Warsaw
BEGIN:VEVENT
UID:38016@night4u.pl
DTSTART;TZID=Europe/Warsaw:20191207T233000
DTEND;TZID=Europe/Warsaw:20191208T090000
DTSTAMP:20191206T172436Z
URL:https://night4u.pl/wydarzenia/smolna-kobosil-somewhen/
SUMMARY:Smolna: Kobosil\, Somewhen
DESCRIPTION:SMOLNA\n▬▬▬▬▬▬▬▬▬▬▬▬▬▬▬\nKobosil\
 nRA: https://www.residentadvisor.net/dj/kobosil\n\nSomewhen\nRA: https://w
 ww.residentadvisor.net/dj/somewhen\n\nVitcat\nFB: https://www.facebook.com
 /vitcatpl/\n\nPATIO\n▬▬▬▬▬▬▬▬▬▬▬▬▬▬▬\nKapoor
 \nRA: https://www.residentadvisor.net/dj/kapoor\n\nMaryo\nFB: https://www.
 facebook.com/maryomusic/\n\nMaciek Glebocki\nFB: https://www.facebook.com/
 MaciekGlebocki/\n\n▬▬▬▬▬▬▬▬▬▬▬▬▬▬▬\nwww.smol
 na38.com\n\nrules:\ndoorman\nno pre-sale\nno photo policy\n\n07.12.2019 | 
 Tix: 40 | Start: 23:30 | After 5:30 20 pln\n▬▬▬▬▬▬▬▬▬▬
 ▬▬▬▬▬▬▬▬▬▬▬▬▬▬▬▬▬▬▬▬▬▬▬▬
 ▬▬▬▬▬▬▬▬▬▬▬▬▬\nRA: https://www.residentadvisor.n
 et/events/1307909
ATTACH;FMTTYPE=image/jpeg:https://night4u.pl/wp-content/uploads/2019/12/10
 8571_image_78767592_2422940721355561_4035593048468488192_o.jpg
CATEGORIES:mazowieckie
LOCATION:Smolna\, Smolna 38\, Warsaw\, 00-375\, Poland
GEO:52.23265;21.02166
X-APPLE-STRUCTURED-LOCATION;VALUE=URI;X-ADDRESS=Smolna 38\, Warsaw\, 00-375
 \, Poland;X-APPLE-RADIUS=100;X-TITLE=Smolna:geo:52.23265,21.02166
END:VEVENT
BEGIN:VTIMEZONE
TZID:Europe/Warsaw
X-LIC-LOCATION:Europe/Warsaw
BEGIN:STANDARD
DTSTART:20191027T020000
TZOFFSETFROM:+0200
TZOFFSETTO:+0100
TZNAME:CET
END:STANDARD
END:VTIMEZONE
END:VCALENDAR