BEGIN:VCALENDAR
VERSION:2.0
PRODID:-//wp-events-plugin.com//7.2.3.1//EN
TZID:Europe/Warsaw
X-WR-TIMEZONE:Europe/Warsaw
BEGIN:VEVENT
UID:5498@night4u.pl
DTSTART;TZID=Europe/Warsaw:20190216T233000
DTEND;TZID=Europe/Warsaw:20190217T080000
DTSTAMP:20190131T125439Z
URL:https://night4u.pl/wydarzenia/smolna-speedy-j-diana-drouze-tralien-gig
 i-b2b-meicon/
SUMMARY:Smolna: Speedy J / Diana d'Rouze / Tralien / Gigi b2b Meicon
DESCRIPTION:SMOLNA\n▬▬▬▬▬▬▬▬▬▬▬▬▬▬▬\nSpeedy J
 \nRA: https://www.residentadvisor.net/dj/speedyj\nFB: https://www.facebook
 .com/electricdeluxe/\n\nDiana d'Rouze\nRA: https://www.residentadvisor.net
 /dj/dianadrouze\nFB: https://www.facebook.com/dianadrouze/\n\nTralien\nRA:
  https://www.residentadvisor.net/dj/tralien\nFB: http://www.facebook.com/t
 ralienofficial\n\nPATIO\n▬▬▬▬▬▬▬▬▬▬▬▬▬▬▬\nGi
 gi b2b Meicon all nite long\nFB: https://www.facebook.com/OfficialGigi/\nF
 B: https://www.facebook.com/MeiconMusic/\n\n▬▬▬▬▬▬▬▬▬▬
 ▬▬▬▬▬\nwww.smolna38.com\n\nrules:\nno pre-sale\nno photo policy\
 ndoorman\n\n\n16.02.2019 | 23:30 | Tix 30/40 | After 5:30 - 20 pln\n▬▬
 ▬▬▬▬▬▬▬▬▬▬▬▬▬▬▬▬▬▬▬▬▬▬▬▬
 ▬▬▬▬▬▬▬▬▬▬▬▬▬▬▬\nRA: https://www.residentadv
 isor.net/events/1211393
ATTACH;FMTTYPE=image/jpeg:https://night4u.pl/wp-content/uploads/2019/01/16
 982_image_50775337_2181782748804694_4764351352518213632_o.jpg
CATEGORIES:mazowieckie
LOCATION:Smolna\, Smolna 38\, Warsaw\, 00-375\, Poland
GEO:52.23265;21.02166
X-APPLE-STRUCTURED-LOCATION;VALUE=URI;X-ADDRESS=Smolna 38\, Warsaw\, 00-375
 \, Poland;X-APPLE-RADIUS=100;X-TITLE=Smolna:geo:52.23265,21.02166
END:VEVENT
BEGIN:VTIMEZONE
TZID:Europe/Warsaw
X-LIC-LOCATION:Europe/Warsaw
BEGIN:STANDARD
DTSTART:20181028T020000
TZOFFSETFROM:+0200
TZOFFSETTO:+0100
TZNAME:CET
END:STANDARD
END:VTIMEZONE
END:VCALENDAR