BEGIN:VCALENDAR
VERSION:2.0
PRODID:-//wp-events-plugin.com//7.2.3.1//EN
TZID:Europe/Warsaw
X-WR-TIMEZONE:Europe/Warsaw
BEGIN:VEVENT
UID:20017@night4u.pl
DTSTART;TZID=Europe/Warsaw:20190626T200000
DTEND;TZID=Europe/Warsaw:20190626T220000
DTSTAMP:20190625T183410Z
URL:https://night4u.pl/wydarzenia/smolna-sroda-pres-seb-skalski-all-night-
 long/
SUMMARY:Smolna Środa pres. Seb Skalski all night long
DESCRIPTION:Środowe transmisje wracają w zupełnie nowej odsłonie niż d
 otychczas. \nKolejnym artystą\, który przedstawi Wam swoją selekcję je
 st Seb Skalski znany również jako Deeplomatik.\nProwadzi własną\, niez
 ależną wytwórnię klubową SpekuLLa Records\, w której promuje wielu m
 łodych i utalentowanych producentów krajowych i zagranicznych. Jego prod
 ukcje ukazują się w najlepszych wytwórniach house takich jak m.in King 
 Street Sounds\, Salted Music\, Simma Black.\n\nStream Hideout\n20:00 - 22:
 00\n\nAfterparty\n22:30 - end\n\nW tym samym czasie na Patio od 18:00 trwa
  Środowy Aperol
ATTACH;FMTTYPE=image/jpeg:https://night4u.pl/wp-content/uploads/2019/06/48
 150_image_65100293_2284957008487267_964921109499609088_o.jpg
CATEGORIES:mazowieckie
LOCATION:Smolna\, Smolna 38\, Warsaw\, 00-375\, Poland
GEO:52.23265;21.02166
X-APPLE-STRUCTURED-LOCATION;VALUE=URI;X-ADDRESS=Smolna 38\, Warsaw\, 00-375
 \, Poland;X-APPLE-RADIUS=100;X-TITLE=Smolna:geo:52.23265,21.02166
END:VEVENT
BEGIN:VTIMEZONE
TZID:Europe/Warsaw
X-LIC-LOCATION:Europe/Warsaw
BEGIN:DAYLIGHT
DTSTART:20190331T030000
TZOFFSETFROM:+0100
TZOFFSETTO:+0200
TZNAME:CEST
END:DAYLIGHT
END:VTIMEZONE
END:VCALENDAR