BEGIN:VCALENDAR
VERSION:2.0
PRODID:-//wp-events-plugin.com//7.2.3.1//EN
TZID:Europe/Warsaw
X-WR-TIMEZONE:Europe/Warsaw
BEGIN:VEVENT
UID:50271@night4u.pl
DTSTART;TZID=Europe/Warsaw:20200404T223000
DTEND;TZID=Europe/Warsaw:20200405T050000
DTSTAMP:20200323T054040Z
URL:https://night4u.pl/wydarzenia/so-hard-immortale-tour-lodz-4-04/
SUMMARY:SO HARD Immortale Tour // Łódź 4.04
DESCRIPTION:𝐒𝐈𝐀𝐌𝐎 𝐒𝐎 𝐇𝐀𝐑𝐃 💀 𝐒𝐈
 𝐀𝐌𝐎 𝐈𝐌𝐌𝐎𝐑𝐓𝐀𝐋𝐈\n\nstało się! ruszamy 
 w melanżowe giro. u nas (jak zawsze) najgrubsze trapowe bangery i najleps
 i DJe w kraju. robimy to jak nikt inny\, a Ty jesteś w tym z nami.\n\nz g
 łośników Travis\, Skepta\, Gunna czy Capo Plaza\, a na parkiecie gunfin
 ger i mosh-pit. z przyjemnością wracamy do Łodzi i wiemy\, że Wy też 
 na to czekaliście!\n\nzatańczysz tak\, jak zagrają:\n☠️ NEEN NAH [ 
 International Girls DJ's / newonce.radio ]\n☠️ IGOR M [ SO HARD ]\n☠
 ️ Badi Badey [ dobzi ludzie ]\n\ngłównym partnerem wydarzenia jest @Th
 e Glistening Store\n⛓ www.instagram.com/theglisteningstore_ ⛓\n\n//SO 
 HARD PER SEMPRE//\n\n[INFO]\ndate: 4.04\nvenue: SODA Underground Stage\nta
 x: 20PLN
ATTACH;FMTTYPE=image/jpeg:https://night4u.pl/wp-content/uploads/2020/03/17
 5966_image_88241846_645234692892894_8662415661223378944_n.jpg
CATEGORIES:łódzkie
LOCATION:SODA Underground Stage\, Plac Komuny Paryskiej 6\, Łódź\, 90-00
 7\, Poland
GEO:51.76518;19.45941
X-APPLE-STRUCTURED-LOCATION;VALUE=URI;X-ADDRESS=Plac Komuny Paryskiej 6\, 
 Łódź\, 90-007\, Poland;X-APPLE-RADIUS=100;X-TITLE=SODA Underground Stag
 e:geo:51.76518,19.45941
END:VEVENT
BEGIN:VTIMEZONE
TZID:Europe/Warsaw
X-LIC-LOCATION:Europe/Warsaw
BEGIN:DAYLIGHT
DTSTART:20200329T030000
TZOFFSETFROM:+0100
TZOFFSETTO:+0200
TZNAME:CEST
END:DAYLIGHT
END:VTIMEZONE
END:VCALENDAR