BEGIN:VCALENDAR
VERSION:2.0
PRODID:-//wp-events-plugin.com//7.2.3.1//EN
TZID:Europe/Warsaw
X-WR-TIMEZONE:Europe/Warsaw
BEGIN:VEVENT
UID:45850@night4u.pl
DTSTART;TZID=Europe/Warsaw:20200201T210000
DTEND;TZID=Europe/Warsaw:20200202T050000
DTSTAMP:20200131T162306Z
URL:https://night4u.pl/wydarzenia/sob-suck-my-coctails-dj-bart-wave-fb-fre
 e-do-2300/
SUMMARY:SOB/Suck my Coctails/Dj Bart Wave/FB free do 23:00!
DESCRIPTION:Specjalnie dla Was Czarna Owca & Dj Bart Wave serwuje najlepszy
  i najbardziej pojechany cykl imprez w sercu Wielkopolski! Będzie dobry b
 it\, flow i ogólnie cała masa tanecznych klimatów!!! 😎\n\nCzego moż
 ecie się spodziewać???\n\n⭐️ Znakomitej selekcji muzycznej!!\n\n⭐
 ️ Studenckich cen na barze!!\n\n⭐️ Tańców do białego rana (after 
 do 10:00 dla wytrwałych)!!\n\n⭐️ Jedynej takiej imprezy ever!!\n_____
 _______________________________\n\nPromocje*\n\n⭐️ Cały tydzień do 2
 3:00 (z polubionym fanpage klubu):\n- Beee... 4 czyli Wódka Pniewska 0\,5
 L + 1L soft 49 PLN (po 23:00 100 PLN)!\n- Whisky + cola/sprite za 10 PLN (
 po 23:00 15 PLN)!\n- Tequila Sunrise za 10 PLN (po 23:00 15 PLN)!\n- Piwko
  EB 0\,5L za 6 PLN (po 23:00 8 PLN)!\n\n⭐️ Sobotnie i Niedzielne Gastr
 o VIP party: 05:00-10:00.\n- Specjalna oferta dla Gastro Owieczek.😈\n\n
  \n*Promocje mogą być zmieniane lub nie obowiązywać w przypadku np. im
 prez zamkniętych lub jeżeli kierownictwo klubu zdecyduje o takiej zmiani
 e. Informacje o ewentualnych zmianach powinny być dostępne w opisie dane
 j imprezy na stronie lub u managera klubu. O dodatkowe promocje pytaj na b
 arze. :)\n____________________________________\n\nDo 22:00 wstęp free\, o
 d 22:00:\nPanie 5zł = żeton na drinka gratis!\nPanowie 20zł = żeton na
  drinka gratis!\nWszystkie osoby z polubionym profilem Facebook klubu wst
 ęp FREE DO GODZINY 23:00!!!\n____________________________________\n\nDARM
 OWE REZERWACJE:\n\nCzarna Owca:\ntel. 537-674-757\nkontakt@klub-czarnaowca
 .pl\n*Klub zastrzega sobie prawo selekcji osób wchodzących.
ATTACH;FMTTYPE=image/jpeg:https://night4u.pl/wp-content/uploads/2020/01/14
 8858_image_84385771_896995690719244_3121122669232128000_n.jpg
CATEGORIES:wielkopolskie
LOCATION:Klub Czarna Owca\, Jaskółcza 13\, Poznan\, 61-832\, Poland
GEO:52.406074;16.932306
X-APPLE-STRUCTURED-LOCATION;VALUE=URI;X-ADDRESS=Jaskółcza 13\, Poznan\, 6
 1-832\, Poland;X-APPLE-RADIUS=100;X-TITLE=Klub Czarna Owca:geo:52.406074,1
 6.932306
END:VEVENT
BEGIN:VTIMEZONE
TZID:Europe/Warsaw
X-LIC-LOCATION:Europe/Warsaw
BEGIN:STANDARD
DTSTART:20191027T020000
TZOFFSETFROM:+0200
TZOFFSETTO:+0100
TZNAME:CET
END:STANDARD
END:VTIMEZONE
END:VCALENDAR