BEGIN:VCALENDAR
VERSION:2.0
PRODID:-//wp-events-plugin.com//7.2.3.1//EN
TZID:Europe/Warsaw
X-WR-TIMEZONE:Europe/Warsaw
BEGIN:VEVENT
UID:33821@night4u.pl
DTSTART;TZID=Europe/Warsaw:20191102T210000
DTEND;TZID=Europe/Warsaw:20191103T040000
DTSTAMP:20191102T083641Z
URL:https://night4u.pl/wydarzenia/sobota-02-11-%e2%98%85fafaq-pres-matthew
 -hill%e2%98%85/
SUMMARY:Sobota 02.11 ★Fafaq pres. Matthew Hill★
DESCRIPTION:W sobotę 2 listopada odwiedzi nas jedna z największych gwiazd
  polskiej sceny klubowej - FAFAQ\, który zaczaruje nas swoim topowym proj
 ektem "Matthew Hill"! Artysta ten to absolutna legenda i wielokrotny uczes
 tnik Sunrise Festival\, a także uczestnik Tomorrowland! \n\nRazem z nim W
 OJTASS\n\nNa sali czerwonej klimaty disco polo/dance/rnb RADI\n\nStart 21:
 00 do 22:00 panie wstęp free!\nWstęp 15zł\n18+ \n\nRezerwacje stolików
  online: http://bit.ly/1SPb2Df\n\nMamy dla was 10 wejściówek na ten even
 t!\nAby wziąć udział w konkursie należy dopisać się do wydarzenia\, 
 udostępnić je\, oraz zaprosić co najmniej 100 znajomych! W komentarzach
  do wydarzenia należy napisać liczbę os przed i po zaproszeniu\, a tak
 że ile os się zaprosiło np przed 1000 po 1100 - zaproszono 100. Spośr
 ód klubowiczów\, którzy wezmą udział w konkursie wylosujemy 10 wejśc
 iówek!\n\nRODO:\n\nAdministratorem Pani/Pana danych osobowych jest Media 
 Serwis M.Krzosek SP.J z siedzibą w Staej Błotnicy 5A. Dane przetwarzane 
 są wyłącznie w celu korespondecji lub wzięcia udziału w konkursie \, 
 jak również w celu archiwizacji korespondencji. Podanie danych jest dobr
 owolne. Przysługuje Pani/Panu prawo dostępu do danych osobowych oraz pra
 wo ich sprostowania\, usunięcia lub ograniczenia przetwarzania\, prawo wn
 iesienia sprzeciwu wobec ich przetwarzania oraz prawo do przenoszenia dany
 ch\; do wniesienia skargi do Urzędu Ochrony Danych Osobowych\, gdy uzna P
 an/Pani\, że przetwarzanie danych osobowych dotyczących Pani/Pana narusz
 a przepisy o ochronie danych osobowych\; do treści swoich danych\, ich po
 prawiania oraz prawo usunięcia danych w każdym czasie. Dane nie będą p
 rzetwarzane w sposób zautomatyzowany. Jeżeli ma Pani/Pan pytania dotycz
 ące ochrony danych osobowych\, prosimy o kontakt na clublemonradom@gmail.
 com
ATTACH;FMTTYPE=image/jpeg:https://night4u.pl/wp-content/uploads/2019/10/85
 613_image_74634319_2577009242355804_7018519205012045824_o.jpg
CATEGORIES:mazowieckie
LOCATION:LEMON Sound Gallery\, Przemysłowa 23\, Radom\, 26-600\, Poland
GEO:51.39058;21.14899
X-APPLE-STRUCTURED-LOCATION;VALUE=URI;X-ADDRESS=Przemysłowa 23\, Radom\, 2
 6-600\, Poland;X-APPLE-RADIUS=100;X-TITLE=LEMON Sound Gallery:geo:51.39058
 ,21.14899
END:VEVENT
BEGIN:VTIMEZONE
TZID:Europe/Warsaw
X-LIC-LOCATION:Europe/Warsaw
BEGIN:STANDARD
DTSTART:20191027T020000
TZOFFSETFROM:+0200
TZOFFSETTO:+0100
TZNAME:CET
END:STANDARD
END:VTIMEZONE
END:VCALENDAR