BEGIN:VCALENDAR
VERSION:2.0
PRODID:-//wp-events-plugin.com//7.2.3.1//EN
TZID:Europe/Warsaw
X-WR-TIMEZONE:Europe/Warsaw
BEGIN:VEVENT
UID:49065@night4u.pl
DTSTART;TZID=Europe/Warsaw:20200307T210000
DTEND;TZID=Europe/Warsaw:20200308T040000
DTSTAMP:20200307T083645Z
URL:https://night4u.pl/wydarzenia/sobota-07-03-%e2%98%85f-a-f-a-q%e2%98%85
 -klubowy-dzien-kobiet/
SUMMARY:Sobota 07.03 ★F A F A Q★ &amp\; Klubowy Dzień Kobiet
DESCRIPTION:W sobotę 7 marca świętujemy DZIEŃ KOBIET na klubowo! \n\nGw
 iazdą wieczoru będzie legenda Sunrise Festival\, a także uczestnik Tomo
 rrowland - FAFAQ! \nPodczas imprezy będziemy rozdawać wyjątkowe prezent
 y dla Pań! \n\nNa sali czerwonej RADI \n\nStart 15zł\n17+\n\n\nRezerwacj
 e stolików online: http://bit.ly/1SPb2Df\n\nMamy dla was 10 wejściówek 
 na ten event!\nAby wziąć udział w konkursie należy dopisać się do wy
 darzenia\, udostępnić je\, oraz zaprosić co najmniej 100 znajomych! W k
 omentarzach do wydarzenia należy napisać liczbę os przed i po zaproszen
 iu\, a także ile os się zaprosiło np przed 1000 po 1100 - zaproszono 10
 0. Spośród klubowiczów\, którzy wezmą udział w konkursie wylosujemy 
 10 wejściówek!\n\nRODO:\n\nAdministratorem Pani/Pana danych osobowych je
 st Media Serwis M.Krzosek SP.J z siedzibą w Staej Błotnicy 5A. Dane prze
 twarzane są wyłącznie w celu korespondecji lub wzięcia udziału w konk
 ursie \, jak również w celu archiwizacji korespondencji. Podanie danych 
 jest dobrowolne. Przysługuje Pani/Panu prawo dostępu do danych osobowych
  oraz prawo ich sprostowania\, usunięcia lub ograniczenia przetwarzania\,
  prawo wniesienia sprzeciwu wobec ich przetwarzania oraz prawo do przenosz
 enia danych\; do wniesienia skargi do Urzędu Ochrony Danych Osobowych\, g
 dy uzna Pan/Pani\, że przetwarzanie danych osobowych dotyczących Pani/Pa
 na narusza przepisy o ochronie danych osobowych\; do treści swoich danych
 \, ich poprawiania oraz prawo usunięcia danych w każdym czasie. Dane nie
  będą przetwarzane w sposób zautomatyzowany. Jeżeli ma Pani/Pan pytani
 a dotyczące ochrony danych osobowych\, prosimy o kontakt na clublemonrado
 m@gmail.com
ATTACH;FMTTYPE=image/jpeg:https://night4u.pl/wp-content/uploads/2020/02/16
 8498_image_87956914_2855639547826104_677262475099373568_o.jpg
CATEGORIES:mazowieckie
LOCATION:LEMON Sound Gallery\, Przemysłowa 23\, Radom\, 26-600\, Poland
GEO:51.39058;21.14899
X-APPLE-STRUCTURED-LOCATION;VALUE=URI;X-ADDRESS=Przemysłowa 23\, Radom\, 2
 6-600\, Poland;X-APPLE-RADIUS=100;X-TITLE=LEMON Sound Gallery:geo:51.39058
 ,21.14899
END:VEVENT
BEGIN:VTIMEZONE
TZID:Europe/Warsaw
X-LIC-LOCATION:Europe/Warsaw
BEGIN:STANDARD
DTSTART:20191027T020000
TZOFFSETFROM:+0200
TZOFFSETTO:+0100
TZNAME:CET
END:STANDARD
END:VTIMEZONE
END:VCALENDAR