BEGIN:VCALENDAR
VERSION:2.0
PRODID:-//wp-events-plugin.com//7.2.3.1//EN
TZID:Europe/Warsaw
X-WR-TIMEZONE:Europe/Warsaw
BEGIN:VEVENT
UID:45693@night4u.pl
DTSTART;TZID=Europe/Warsaw:20200208T210000
DTEND;TZID=Europe/Warsaw:20200209T040000
DTSTAMP:20200208T083647Z
URL:https://night4u.pl/wydarzenia/sobota-08-02-%e2%98%85we-love-retro-with
 -a-n-t-e-x%e2%98%85/
SUMMARY:Sobota 08.02 ★We Love Retro with A N T E X★
DESCRIPTION:W sobotę 8 lutego zapraszamy na I w tym roku edycję cyklu "WE
  LOVE RETRO"! \nGościem specjalnym będzie legenda sieci klubów Protecto
 r\, a także twórca wielu hitów i remixów które z pewnością \nuwielb
 iacie - DJ ANTEX! \n"Bo Radomskie Gołębie Latają Najwyżej" \n\nRazem z
  nim nasz rezydent WOJTASS\n\nNa sali czerwonej brzmienia disco/dance/rnb 
 zaserwuje: RADI\n\n\nStart 21:00 \nWstęp 15zł\n17+\n\nRezerwacje stolik
 ów online: http://bit.ly/1SPb2Df\n\nMamy dla was 10 wejściówek na ten e
 vent!\nAby wziąć udział w konkursie należy dopisać się do wydarzenia
 \, udostępnić je\, oraz zaprosić co najmniej 100 znajomych! W komentarz
 ach do wydarzenia należy napisać liczbę os przed i po zaproszeniu\, a t
 akże ile os się zaprosiło np przed 1000 po 1100 - zaproszono 100. Spoś
 ród klubowiczów\, którzy wezmą udział w konkursie wylosujemy 10 wejś
 ciówek!\n\nRODO:\n\nAdministratorem Pani/Pana danych osobowych jest Media
  Serwis M.Krzosek SP.J z siedzibą w Staej Błotnicy 5A. Dane przetwarzane
  są wyłącznie w celu korespondecji lub wzięcia udziału w konkursie \,
  jak również w celu archiwizacji korespondencji. Podanie danych jest dob
 rowolne. Przysługuje Pani/Panu prawo dostępu do danych osobowych oraz pr
 awo ich sprostowania\, usunięcia lub ograniczenia przetwarzania\, prawo w
 niesienia sprzeciwu wobec ich przetwarzania oraz prawo do przenoszenia dan
 ych\; do wniesienia skargi do Urzędu Ochrony Danych Osobowych\, gdy uzna 
 Pan/Pani\, że przetwarzanie danych osobowych dotyczących Pani/Pana narus
 za przepisy o ochronie danych osobowych\; do treści swoich danych\, ich p
 oprawiania oraz prawo usunięcia danych w każdym czasie. Dane nie będą 
 przetwarzane w sposób zautomatyzowany. Jeżeli ma Pani/Pan pytania dotycz
 ące ochrony danych osobowych\, prosimy o kontakt na clublemonradom@gmail.
 com
ATTACH;FMTTYPE=image/jpeg:https://night4u.pl/wp-content/uploads/2020/01/14
 8342_image_83102428_2794623470594379_1931708639987367936_o.jpg
CATEGORIES:mazowieckie
LOCATION:LEMON Sound Gallery\, Przemysłowa 23\, Radom\, 26-600\, Poland
GEO:51.39058;21.14899
X-APPLE-STRUCTURED-LOCATION;VALUE=URI;X-ADDRESS=Przemysłowa 23\, Radom\, 2
 6-600\, Poland;X-APPLE-RADIUS=100;X-TITLE=LEMON Sound Gallery:geo:51.39058
 ,21.14899
END:VEVENT
BEGIN:VTIMEZONE
TZID:Europe/Warsaw
X-LIC-LOCATION:Europe/Warsaw
BEGIN:STANDARD
DTSTART:20191027T020000
TZOFFSETFROM:+0200
TZOFFSETTO:+0100
TZNAME:CET
END:STANDARD
END:VTIMEZONE
END:VCALENDAR