BEGIN:VCALENDAR
VERSION:2.0
PRODID:-//wp-events-plugin.com//7.2.3.1//EN
TZID:Europe/Warsaw
X-WR-TIMEZONE:Europe/Warsaw
BEGIN:VEVENT
UID:32933@night4u.pl
DTSTART;TZID=Europe/Warsaw:20191026T210000
DTEND;TZID=Europe/Warsaw:20191027T040000
DTSTAMP:20191026T083733Z
URL:https://night4u.pl/wydarzenia/sobota-26-10-%e2%98%85b-e-f-o-r-e-m-a-y-
 d-a-y%e2%98%85/
SUMMARY:Sobota 26.10 ★B E F O R E - M A Y D A Y★ Halloween Edition!
DESCRIPTION:W niedzielę 10 listopada w Katowickim spodku odbędzie się ju
 bileuszowa 20 edycja kultowego festiwalu z muzyką elektroniczną - MAYDAY
 ! \n\nW sobotę 26 października zapraszamy na oficjalne BEFORE MAYDAY w L
 emonie!\nGościem specjalnym będzie legenda śląskich klubów - DJ GOULI
 ANO! \nRazem z nim DJ BLAZE z Krakowa!\nNa sali czerwonej THOMEE D \n\nPod
 czas imprezy ROZDAJEMY BILETY NA MAYDAY\, a także potężną dawkę gadż
 etów związanych z festiwalem takich jak mn. in płyty cd\, okulary\, kos
 zulki i wiele innych...\n\nStart 21:00 do 22:00 panie wstęp free!\n18+ \n
 Wstęp 15zł \n\nRezerwacje stolików online: http://bit.ly/1SPb2Df\n\nMam
 y dla was 10 wejściówek na ten event!\nAby wziąć udział w konkursie n
 ależy dopisać się do wydarzenia\, udostępnić je\, oraz zaprosić co n
 ajmniej 100 znajomych! W komentarzach do wydarzenia należy napisać liczb
 ę os przed i po zaproszeniu\, a także ile os się zaprosiło np przed 10
 00 po 1100 - zaproszono 100. Spośród klubowiczów\, którzy wezmą udzia
 ł w konkursie wylosujemy 10 wejściówek!\n\nRODO:\n\nAdministratorem Pan
 i/Pana danych osobowych jest Media Serwis M.Krzosek SP.J z siedzibą w Sta
 ej Błotnicy 5A. Dane przetwarzane są wyłącznie w celu korespondecji lu
 b wzięcia udziału w konkursie \, jak również w celu archiwizacji kores
 pondencji. Podanie danych jest dobrowolne. Przysługuje Pani/Panu prawo do
 stępu do danych osobowych oraz prawo ich sprostowania\, usunięcia lub og
 raniczenia przetwarzania\, prawo wniesienia sprzeciwu wobec ich przetwarza
 nia oraz prawo do przenoszenia danych\; do wniesienia skargi do Urzędu Oc
 hrony Danych Osobowych\, gdy uzna Pan/Pani\, że przetwarzanie danych osob
 owych dotyczących Pani/Pana narusza przepisy o ochronie danych osobowych\
 ; do treści swoich danych\, ich poprawiania oraz prawo usunięcia danych 
 w każdym czasie. Dane nie będą przetwarzane w sposób zautomatyzowany. 
 Jeżeli ma Pani/Pan pytania dotyczące ochrony danych osobowych\, prosimy 
 o kontakt na clublemonradom@gmail.com
ATTACH;FMTTYPE=image/jpeg:https://night4u.pl/wp-content/uploads/2019/10/80
 960_image_72849997_2570490453007683_3880161094014074880_n.jpg
CATEGORIES:mazowieckie
LOCATION:LEMON Sound Gallery\, Przemysłowa 23\, Radom\, 26-600\, Poland
GEO:51.39058;21.14899
X-APPLE-STRUCTURED-LOCATION;VALUE=URI;X-ADDRESS=Przemysłowa 23\, Radom\, 2
 6-600\, Poland;X-APPLE-RADIUS=100;X-TITLE=LEMON Sound Gallery:geo:51.39058
 ,21.14899
END:VEVENT
BEGIN:VTIMEZONE
TZID:Europe/Warsaw
X-LIC-LOCATION:Europe/Warsaw
BEGIN:DAYLIGHT
DTSTART:20190331T030000
TZOFFSETFROM:+0100
TZOFFSETTO:+0200
TZNAME:CEST
END:DAYLIGHT
BEGIN:STANDARD
DTSTART:20191027T020000
TZOFFSETFROM:+0200
TZOFFSETTO:+0100
TZNAME:CET
END:STANDARD
END:VTIMEZONE
END:VCALENDAR