BEGIN:VCALENDAR
VERSION:2.0
PRODID:-//wp-events-plugin.com//7.2.3.1//EN
TZID:Europe/Warsaw
X-WR-TIMEZONE:Europe/Warsaw
BEGIN:VEVENT
UID:36935@night4u.pl
DTSTART;TZID=Europe/Warsaw:20191130T210000
DTEND;TZID=Europe/Warsaw:20191201T020000
DTSTAMP:20191129T092732Z
URL:https://night4u.pl/wydarzenia/sobota-30-11-wildest-night-4/
SUMMARY:Sobota 30.11 | Wildest Night
DESCRIPTION:✨Andrzejkowa sobota jest nocą\, kiedy błyszczące kreacje m
 ają jeszcze większy blask. Zabierz ze sobą przyjaciół i z uśmiechem 
 baw się do rana.\n\nW sprawach rezerwacji napisz do nas.\nMuzycznie jak z
 awsze będzie doskonale.\nZagrają KOCUR &amp\; BADBOY✨\n\nW trosce o na
 jlepszy klimat imprez\, na wejściu obowiązuje selekcja gości. Dobry uś
 miech to podstawa :) \n\nDo zobaczenia w Unique!
ATTACH;FMTTYPE=image/jpeg:https://night4u.pl/wp-content/uploads/2019/11/10
 1869_image_77264403_3459097217442497_2272754168848449536_o.jpg
CATEGORIES:pomorskie
LOCATION:UNIQUE Club &amp\; Lounge Sopot\, Plac Zdrojowy 1\, Sopot\, 81-720
 \, Poland
GEO:54.445172;18.569209
X-APPLE-STRUCTURED-LOCATION;VALUE=URI;X-ADDRESS=Plac Zdrojowy 1\, Sopot\, 8
 1-720\, Poland;X-APPLE-RADIUS=100;X-TITLE=UNIQUE Club & Lounge Sopot:geo:5
 4.445172,18.569209
END:VEVENT
BEGIN:VTIMEZONE
TZID:Europe/Warsaw
X-LIC-LOCATION:Europe/Warsaw
BEGIN:STANDARD
DTSTART:20191027T020000
TZOFFSETFROM:+0200
TZOFFSETTO:+0100
TZNAME:CET
END:STANDARD
END:VTIMEZONE
END:VCALENDAR