BEGIN:VCALENDAR
VERSION:2.0
PRODID:-//wp-events-plugin.com//7.2.3.1//EN
TZID:Europe/Warsaw
X-WR-TIMEZONE:Europe/Warsaw
BEGIN:VEVENT
UID:13810@night4u.pl
DTSTART;TZID=Europe/Warsaw:20190427T220000
DTEND;TZID=Europe/Warsaw:20190428T060000
DTSTAMP:20190425T215548Z
URL:https://night4u.pl/wydarzenia/sobota-dominacja-plci-pieknej-rokoko-2-0
 -panie-wstep-free-2/
SUMMARY:Sobota/ Dominacja Płci Pięknej/ Rokoko 2.0/ Panie wstęp Free
DESCRIPTION:⚠ Sobota w Rokoko 2.0 ⚠\n*W Soboty Wstęp do klubu od 21 ro
 ku życia.\n\n? Dwa Poziomy! \n\n? Dwa style muzyczne! \n\n? Tysiące Niez
 apomnianych chwil ♥ ! \n\n?? Panie -> Wstęp Wolny do godziny 23 ??\n+ P
 owitalna lampka Szampana?\n\n? Impreza z Dominacją Płci Pięknej! \n➡2
  Poziomy\n➡2 parkiety\n➡2 style muzyczne\, House\, RnB? + Disco ?\n➡
 2 DJ \n➡Vip Room\n*Wstęp od 21 roku życia\n___________________________
 ______________\nRokoko 2.0-> Łączy kultywowanie tradycji jednego z najst
 arszych klubów w Białymstoku z nowoczesnym i innowacyjnym podejściem do
  muzyki\, obsługi gości oraz organizacji imprez ??\n____________________
 _____________________\nRokoko 2.0 -> Klub w Białymstoku posiadający dwa 
 niezależne parkiety z inną muzyką\, jedyne miejsce\, gdzie każdy znajd
 zie coś dla siebie?\nRokoko 2.0\, ulica Legionowa 14/16 w samym sercu mia
 sta ♥ ♥\n\n*Jako klub\, zastrzegamy sobie prawo do selekcji gości ??\
 n\n? Rezerwacje : 731983199 ?
ATTACH;FMTTYPE=image/jpeg:https://night4u.pl/wp-content/uploads/2019/04/34
 634_image_58673858_2324930437783938_494455094884958208_n.jpg
CATEGORIES:podlaskie
LOCATION:Rokoko 2.0 Białystok\, Legionowa 14/16\, Białystok\, 15-099\, Po
 land
GEO:53.130699;23.159157
X-APPLE-STRUCTURED-LOCATION;VALUE=URI;X-ADDRESS=Legionowa 14/16\, Białysto
 k\, 15-099\, Poland;X-APPLE-RADIUS=100;X-TITLE=Rokoko 2.0 Białystok:geo:5
 3.130699,23.159157
END:VEVENT
BEGIN:VTIMEZONE
TZID:Europe/Warsaw
X-LIC-LOCATION:Europe/Warsaw
BEGIN:DAYLIGHT
DTSTART:20190331T030000
TZOFFSETFROM:+0100
TZOFFSETTO:+0200
TZNAME:CEST
END:DAYLIGHT
END:VTIMEZONE
END:VCALENDAR