BEGIN:VCALENDAR
VERSION:2.0
PRODID:-//wp-events-plugin.com//7.2.3.1//EN
TZID:Europe/Warsaw
X-WR-TIMEZONE:Europe/Warsaw
BEGIN:VEVENT
UID:38708@night4u.pl
DTSTART;TZID=Europe/Warsaw:20191207T210000
DTEND;TZID=Europe/Warsaw:20191208T050000
DTSTAMP:20191208T000749Z
URL:https://night4u.pl/wydarzenia/sobota-x-dzieje-sie-w-miecie-x-georgina-
 tarasiuk-vocal/
SUMMARY:Sobota x Dzieje się w Mięcie x Georgina Tarasiuk (vocal)
DESCRIPTION:Tęskniliśmy za nią\, wiemy że ona za Wami i nami także. Ge
 orgina Tarasiuk - wokalistka\, kompozytorka\, animatorka kultury\, założ
 ycielka formacji Blauka\, z którą aktualnie kocertuje w całej Polsce. J
 ej wizyty w Mięcie to gwarantowany wokalny występ na najwyższym poziomi
 e.\nMuzyczne zaplecze zapewnią Raw Mental i Rocknoize.\n\nStart: 21:00\nW
 stęp: 10 PLN (selekcja +21)\nRezerwacje: 513 878 881 lub kontakt @ klubmi
 eta pl\nMuzyka: house + vocal live act\nWejście do klubu oznacza akceptac
 ję regulaminu dostępnego pod adresem http://klubmieta.pl/regulamin/
ATTACH;FMTTYPE=image/jpeg:https://night4u.pl/wp-content/uploads/2019/12/11
 1131_image_78657873_2907954179431448_5627503233413939200_o.jpg
CATEGORIES:warmińsko-mazurskie
LOCATION:Klub Mięta\, Świętej Barbary 9\,\, Olsztyn\, 11-041\, Poland
GEO:53.776619;20.476819
X-APPLE-STRUCTURED-LOCATION;VALUE=URI;X-ADDRESS=Świętej Barbary 9\,\, Ols
 ztyn\, 11-041\, Poland;X-APPLE-RADIUS=100;X-TITLE=Klub Mięta:geo:53.77661
 9,20.476819
END:VEVENT
BEGIN:VTIMEZONE
TZID:Europe/Warsaw
X-LIC-LOCATION:Europe/Warsaw
BEGIN:STANDARD
DTSTART:20191027T020000
TZOFFSETFROM:+0200
TZOFFSETTO:+0100
TZNAME:CET
END:STANDARD
END:VTIMEZONE
END:VCALENDAR