BEGIN:VCALENDAR
VERSION:2.0
PRODID:-//wp-events-plugin.com//7.2.3.1//EN
TZID:Europe/Warsaw
X-WR-TIMEZONE:Europe/Warsaw
BEGIN:VEVENT
UID:1429@night4u.pl
DTSTART;TZID=Europe/Warsaw:20181229T210000
DTEND;TZID=Europe/Warsaw:20181229T210000
DTSTAMP:20181227T232333Z
URL:https://night4u.pl/wydarzenia/sobota-x-la-grande-finale-x-skipek-bolo/
SUMMARY:Sobota x La grande Finale x Skipek & Bolo
DESCRIPTION:Muzyczne podsumowanie roku!\nJak dotychczas dwie edycje podsumo
 wujące cieszyły się Waszym ogromnym zainteresowaniem. Pora na finał!\n
 Kolejni DJe przekopią swoje muzyczne zasoby by wybrać to co w 2018 najle
 psze!\n\nDjs:\n?Skipek\n?Bolo.\n \nStart: 21:00\nTax: 10pln\nSelekcja +21
ATTACH;FMTTYPE=image/jpeg:https://night4u.pl/wp-content/uploads/2018/12/67
 08_image_49444825_2586376121589257_5706429854547705856_o.jpg
CATEGORIES:warmińsko-mazurskie
END:VEVENT
BEGIN:VTIMEZONE
TZID:Europe/Warsaw
X-LIC-LOCATION:Europe/Warsaw
BEGIN:STANDARD
DTSTART:20181028T020000
TZOFFSETFROM:+0200
TZOFFSETTO:+0100
TZNAME:CET
END:STANDARD
END:VTIMEZONE
END:VCALENDAR