BEGIN:VCALENDAR
VERSION:2.0
PRODID:-//wp-events-plugin.com//7.2.3.1//EN
TZID:Europe/Warsaw
X-WR-TIMEZONE:Europe/Warsaw
BEGIN:VEVENT
UID:33574@night4u.pl
DTSTART;TZID=Europe/Warsaw:20191026T210000
DTEND;TZID=Europe/Warsaw:20191027T030000
DTSTAMP:20191026T224427Z
URL:https://night4u.pl/wydarzenia/sobota_dj_santvsozi/
SUMMARY:SOBOTA_DJ_SANTvsOZI
DESCRIPTION:W sobotę muzyczna fiesta z dj SANTEM wspieranym przez dj OZIEG
 O ten duet to gwarancja szalonych doznań na parkiecie.  Dobre dźwięki\,
  super drinki to nasza recepta na udany weekend. Zapraszamy Was abyście p
 rzeżyli go z nami. \n\n___________________________\n\n___________________
 _________\nStart 21\nWejście Free 23
ATTACH;FMTTYPE=image/jpeg:https://night4u.pl/wp-content/uploads/2019/10/84
 370_image_73245697_2618696448181691_6260530972748414976_o.jpg
CATEGORIES:lubelskie
LOCATION:Klub Gramofon\, Biała Podlaska\, Poland
GEO:52.03268;23.120489
X-APPLE-STRUCTURED-LOCATION;VALUE=URI;X-ADDRESS=Biała Podlaska\, Poland;X-
 APPLE-RADIUS=100;X-TITLE=Klub Gramofon:geo:52.03268,23.120489
END:VEVENT
BEGIN:VTIMEZONE
TZID:Europe/Warsaw
X-LIC-LOCATION:Europe/Warsaw
BEGIN:DAYLIGHT
DTSTART:20190331T030000
TZOFFSETFROM:+0100
TZOFFSETTO:+0200
TZNAME:CEST
END:DAYLIGHT
BEGIN:STANDARD
DTSTART:20191027T020000
TZOFFSETFROM:+0200
TZOFFSETTO:+0100
TZNAME:CET
END:STANDARD
END:VTIMEZONE
END:VCALENDAR