BEGIN:VCALENDAR
VERSION:2.0
PRODID:-//wp-events-plugin.com//7.2.3.1//EN
TZID:Europe/Warsaw
X-WR-TIMEZONE:Europe/Warsaw
BEGIN:VEVENT
UID:23037@night4u.pl
DTSTART;TZID=Europe/Warsaw:20190727T210000
DTEND;TZID=Europe/Warsaw:20190728T040000
DTSTAMP:20190724T175905Z
URL:https://night4u.pl/wydarzenia/sobota_music_fiesta_dj_ziggi-4/
SUMMARY:SOBOTA_MUSIC_Fiesta_DJ_ZIGGI
DESCRIPTION:W sobotę muzyczna fiesta z DJ ZIGGI i przelotka po brzmieniach
  muzyki HOUSE.  Dobre dźwięki\, super drinki to nasza recepta na udany w
 eekend. Zapraszamy Was abyście przeżyli go z nami. \n\n_________________
 ___________\nStart 21\nWejście Free 22
ATTACH;FMTTYPE=image/jpeg:https://night4u.pl/wp-content/uploads/2019/07/54
 425_image_67729866_2443757209008950_9123018575500541952_o.jpg
CATEGORIES:lubelskie
LOCATION:Klub Gramofon\, Biała Podlaska\, Poland
GEO:52.03268;23.120489
X-APPLE-STRUCTURED-LOCATION;VALUE=URI;X-ADDRESS=Biała Podlaska\, Poland;X-
 APPLE-RADIUS=100;X-TITLE=Klub Gramofon:geo:52.03268,23.120489
END:VEVENT
BEGIN:VTIMEZONE
TZID:Europe/Warsaw
X-LIC-LOCATION:Europe/Warsaw
BEGIN:DAYLIGHT
DTSTART:20190331T030000
TZOFFSETFROM:+0100
TZOFFSETTO:+0200
TZNAME:CEST
END:DAYLIGHT
END:VTIMEZONE
END:VCALENDAR