BEGIN:VCALENDAR
VERSION:2.0
PRODID:-//wp-events-plugin.com//7.2.3.1//EN
TZID:Europe/Warsaw
X-WR-TIMEZONE:Europe/Warsaw
BEGIN:VEVENT
UID:35249@night4u.pl
DTSTART;TZID=Europe/Warsaw:20191109T210000
DTEND;TZID=Europe/Warsaw:20191110T040000
DTSTAMP:20191109T224418Z
URL:https://night4u.pl/wydarzenia/sobota_music_fiesta_dj_ziggi-7/
SUMMARY:SOBOTA_MUSIC_Fiesta_DJ_ZIGGI
DESCRIPTION:Muzyczna fiesta z DJ ZIGGI i wycieczka po brzmieniach muzyki HO
 USE z najodleglejszych stron świata. \nDobre dźwięki\, super drinki to 
 nasza recepta na udany weekend. Zapraszamy Was na wspólną podróż!\nPro
 mocja do 23:00\n2 za 1\nSHOT SMAKOWY\n____________________________\nStart 
 21\nWejście Free  DO 23:00
ATTACH;FMTTYPE=image/jpeg:https://night4u.pl/wp-content/uploads/2019/11/92
 798_image_74605527_2647091298675539_5192376772351492096_o.jpg
CATEGORIES:lubelskie
LOCATION:Klub Gramofon\, Biała Podlaska\, Poland
GEO:52.03268;23.120489
X-APPLE-STRUCTURED-LOCATION;VALUE=URI;X-ADDRESS=Biała Podlaska\, Poland;X-
 APPLE-RADIUS=100;X-TITLE=Klub Gramofon:geo:52.03268,23.120489
END:VEVENT
BEGIN:VTIMEZONE
TZID:Europe/Warsaw
X-LIC-LOCATION:Europe/Warsaw
BEGIN:STANDARD
DTSTART:20191027T020000
TZOFFSETFROM:+0200
TZOFFSETTO:+0100
TZNAME:CET
END:STANDARD
END:VTIMEZONE
END:VCALENDAR