BEGIN:VCALENDAR
VERSION:2.0
PRODID:-//wp-events-plugin.com//7.2.3.1//EN
TZID:Europe/Warsaw
X-WR-TIMEZONE:Europe/Warsaw
BEGIN:VEVENT
UID:35559@night4u.pl
DTSTART;TZID=Europe/Warsaw:20191109T210000
DTEND;TZID=Europe/Warsaw:20191110T040000
DTSTAMP:20191110T010203Z
URL:https://night4u.pl/wydarzenia/sobotnie-szalenstwa-x-club-nafta/
SUMMARY:Sobotnie szaleństwa x Club Nafta
DESCRIPTION:Szare i długie listopadowe noce zastąpimy sobotnimi szaleńst
 wami w Nafcie. O szalony nastrój zadba DJ QBA\n\n🔶🔶🔶🔶🔶🔶
 \nNAFTA MUSIC\nDJ QBA\n\n🔶🔶🔶🔶🔶🔶\nPROMO BAR\nNafciarz Sho
 ot's 15 PLN\n\n🔶🔶🔶🔶🔶🔶\nWJAZD\ndo 22:00 dziewczyny -&gt\;
  10 zł\nnormalnie: 16 zł\nWiek: +21\n\n🔶🔶🔶🔶🔶🔶\nREZERWA
 CJE LOŻY:\nTEL: 785 930 565
ATTACH;FMTTYPE=image/jpeg:https://night4u.pl/wp-content/uploads/2019/11/93
 588_image_74701510_1617688375034735_2659335228744531968_o.jpg
CATEGORIES:podkarpackie
LOCATION:Club Nafta\, ul. Lwowska 21\, Krosno\, 38-440\, Poland
GEO:49.683733;21.772154
X-APPLE-STRUCTURED-LOCATION;VALUE=URI;X-ADDRESS=ul. Lwowska 21\, Krosno\, 3
 8-440\, Poland;X-APPLE-RADIUS=100;X-TITLE=Club Nafta:geo:49.683733,21.7721
 54
END:VEVENT
BEGIN:VTIMEZONE
TZID:Europe/Warsaw
X-LIC-LOCATION:Europe/Warsaw
BEGIN:STANDARD
DTSTART:20191027T020000
TZOFFSETFROM:+0200
TZOFFSETTO:+0100
TZNAME:CET
END:STANDARD
END:VTIMEZONE
END:VCALENDAR