BEGIN:VCALENDAR
VERSION:2.0
PRODID:-//wp-events-plugin.com//7.2.3.1//EN
TZID:Europe/Warsaw
X-WR-TIMEZONE:Europe/Warsaw
BEGIN:VEVENT
UID:44365@night4u.pl
DTSTART;TZID=Europe/Warsaw:20200328T220000
DTEND;TZID=Europe/Warsaw:20200329T050000
DTSTAMP:20200322T175858Z
URL:https://night4u.pl/wydarzenia/soca-vs-dancehall-jouvert-morning-editii
 on/
SUMMARY:Soca Vs Dancehall - Jouvert Morning Editiion
DESCRIPTION:🇹🇹🇬🇧🇯🇲 &gt\;EN Version BelowEN  Version&lt\; 
 🇯🇲🇬🇧🇹🇹 \n\n\nSoca VS Dancehall - First Annual Jouvert Mo
 rning Edition.\n\nAs this is the first edition in Poland\, let us explain 
 what exactly the meaning of Jouvert actually is:\n\nWhat it is: J&#039\;Ou
 vert\, meaning “dawn” or “daybreak” in Antillean Creole French\, i
 s an early morning street party held in several Caribbean countries as par
 t of Carnival. In some cultures\, part of the tradition is to smear paint\
 , mud or oil on participants. In this case\, Warsaw J&#039\;Ouvert-goers c
 an dress in P-Jamas (Night wear) \nThat correct\, the dress code for this 
 even is P-Jamas aka sleep wear.\n\nNever been to Soca vs Dancehall??? \nCl
 ick on the youtube link to see what it&#039\;s all about: \n\nhttps://www.
 fb.com/socavsdancehallholland/videos/826655367440559/\nhttps://www.youtube
 .com/watch?v=0xqfdI11mYk \n\nFor this Jouvert Edition\, we have invited bo
 th residents DJ&#039\;s from Soca VS Dancehall Holland\, to bring you the 
 real Caribbean Vibe\n\nD-One from Trinidad🇹🇹. \nA member of Herbaliz
 e It Sound System in Germany.\nAs D-One is very popular in the Dancehall c
 ommunity in Europe\, he has the same popularity in the Soca community as w
 ell. \n\nFiber from Statia 🇳🇱\nA memeber of Godfatha sounds\, a popu
 lar All-round DJ crew from the caribbean in The Netherlands. \n\nOn that n
 ight both Fiber &amp\; D-One they will be supported  DJ Dutty Fresh\, also
  a Caribbean DJ\, you will receive guaranteed high quality Dancehall &amp\
 ; Soca all night long.\n\nDJ Line Up:\n\nD-One 🇹🇹\nFiber 🇳🇱\nD
 utty Fresh 🇸🇽\nDJ NIck 🇮🇳\n\nMusic:\nStrictly Soca &amp\; Danc
 ehall \n\n\nEntry:\nTicket: 20 pln\nBookings: +48 5000 1 5858\n\n🔥The n
 ext edition will be on  25.04.2020🔥
ATTACH;FMTTYPE=image/jpeg:https://night4u.pl/wp-content/uploads/2020/02/14
 2872_image_87818685_3026018497410643_586426094337392640_n.jpg
CATEGORIES:mazowieckie
LOCATION:N58 Club\, ul. Nowy Świat 58\, Warsaw\, 00-363\, Poland
GEO:52.235367;21.018564
X-APPLE-STRUCTURED-LOCATION;VALUE=URI;X-ADDRESS=ul. Nowy Świat 58\, Warsaw
 \, 00-363\, Poland;X-APPLE-RADIUS=100;X-TITLE=N58 Club:geo:52.235367,21.01
 8564
END:VEVENT
BEGIN:VTIMEZONE
TZID:Europe/Warsaw
X-LIC-LOCATION:Europe/Warsaw
BEGIN:STANDARD
DTSTART:20191027T020000
TZOFFSETFROM:+0200
TZOFFSETTO:+0100
TZNAME:CET
END:STANDARD
BEGIN:DAYLIGHT
DTSTART:20200329T030000
TZOFFSETFROM:+0100
TZOFFSETTO:+0200
TZNAME:CEST
END:DAYLIGHT
END:VTIMEZONE
END:VCALENDAR