BEGIN:VCALENDAR
VERSION:2.0
PRODID:-//wp-events-plugin.com//7.2.3.1//EN
TZID:Europe/Warsaw
X-WR-TIMEZONE:Europe/Warsaw
BEGIN:VEVENT
UID:43656@night4u.pl
DTSTART;TZID=Europe/Warsaw:20210520T183000
DTEND;TZID=Europe/Warsaw:20210603T183000
DTSTAMP:20210427T204158Z
URL:https://night4u.pl/wydarzenia/sokol-eskimo-tour-krakow/
SUMMARY:Sokół - Eskimo Tour - Kraków
DESCRIPTION:UWAGA! NOWA DATA WYDARZENIA!!\n\nEskimo Tour.\nSokół wraca z 
 nowym materiałem. Będziecie musieli po tym odśnieżać.
ATTACH;FMTTYPE=image/jpeg:https://night4u.pl/wp-content/uploads/2021/04/13
 9736_image_106628294_3194211203965072_1142251621452392494_n.jpg
CATEGORIES:małopolskie
LOCATION:Klub Studio\, Budryka 4\, Kraków\, 30-072\, Poland
GEO:50.068057;19.908264
X-APPLE-STRUCTURED-LOCATION;VALUE=URI;X-ADDRESS=Budryka 4\, Kraków\, 30-07
 2\, Poland;X-APPLE-RADIUS=100;X-TITLE=Klub Studio:geo:50.068057,19.908264
END:VEVENT
BEGIN:VTIMEZONE
TZID:Europe/Warsaw
X-LIC-LOCATION:Europe/Warsaw
BEGIN:DAYLIGHT
DTSTART:20210328T030000
TZOFFSETFROM:+0100
TZOFFSETTO:+0200
TZNAME:CEST
END:DAYLIGHT
END:VTIMEZONE
END:VCALENDAR