BEGIN:VCALENDAR
VERSION:2.0
PRODID:-//wp-events-plugin.com//7.2.3.1//EN
TZID:Europe/Warsaw
X-WR-TIMEZONE:Europe/Warsaw
BEGIN:VEVENT
UID:43650@night4u.pl
DTSTART;TZID=Europe/Warsaw:20200311T180000
DTEND;TZID=Europe/Warsaw:20200311T220000
DTSTAMP:20200227T022859Z
URL:https://night4u.pl/wydarzenia/sokol-eskimo-tour-poznan-druga-data/
SUMMARY:Sokół - Eskimo Tour - Poznań / druga data
DESCRIPTION:Eskimo Tour.\nSokół wraca z nowym materiałem. Będziecie mus
 ieli po tym odśnieżać. \nSingiel niebawem ⚡️⚡️⚡️ \n\nSprzed
 aż biletów na wydarzenie rozpocznie się w momencie wyprzedania pierwsze
 go poznańskiego koncertu Sokoła\, odbywającego się w dniu 12.03.2020.
ATTACH;FMTTYPE=image/jpeg:https://night4u.pl/wp-content/uploads/2020/01/13
 9694_image_82825902_2802030869849776_9193475869018947584_o.jpg
CATEGORIES:wielkopolskie
LOCATION:Tama\, ul. Niezłomnych 2\, Poznan\, 61-714\, Poland
GEO:52.402524;16.922364
X-APPLE-STRUCTURED-LOCATION;VALUE=URI;X-ADDRESS=ul. Niezłomnych 2\, Poznan
 \, 61-714\, Poland;X-APPLE-RADIUS=100;X-TITLE=Tama:geo:52.402524,16.922364
END:VEVENT
BEGIN:VTIMEZONE
TZID:Europe/Warsaw
X-LIC-LOCATION:Europe/Warsaw
BEGIN:STANDARD
DTSTART:20191027T020000
TZOFFSETFROM:+0200
TZOFFSETTO:+0100
TZNAME:CET
END:STANDARD
END:VTIMEZONE
END:VCALENDAR