BEGIN:VCALENDAR
VERSION:2.0
PRODID:-//wp-events-plugin.com//7.2.3.1//EN
TZID:Europe/Warsaw
X-WR-TIMEZONE:Europe/Warsaw
BEGIN:VEVENT
UID:41627@night4u.pl
DTSTART;TZID=Europe/Warsaw:20200304T200000
DTEND;TZID=Europe/Warsaw:20200304T220000
DTSTAMP:20200331T141514Z
URL:https://night4u.pl/wydarzenia/sold-out-kwiat-jabloni-wroclaw-a2/
SUMMARY:SOLD OUT / Kwiat Jabłoni / Wrocław / A2
DESCRIPTION:Kwiat Jabłoni / “Pożegnanie z niemożliwym”\n4 marca 2020
  / Wrocław / A2 / 20:00 \n\nBilety: Wyprzedane \n\n20:00 - Pola Chobot &a
 mp\; Adam Baran\n20:40 - Kwiat Jabłoni\n\nZespół Kwiat Jabłoni rusza w
  niezwykłą trasę po najlepszych polskich klubach. Podczas "Pożegnania 
 z niemożliwym“ Kasia i Jacek Sienkiewicz po raz ostatni wykonają w ca
 łości materiał z pokrytej złotem debiutanckiej płyty. W 18 miastach b
 ędzie można usłyszeć dobrze znane single w nowych aranżacjach oraz po
 jawią się nowości i niespodzianki. To zwieńczenie ponad rocznego\, int
 ensywnego koncertowania w całej Polsce. Zespół ma za sobą cztery trasy
 \, które cieszyły się ogromnym zainteresowaniem - dwie ostatnie został
 y całkowicie wyprzedane w rekordowym czasie.\n\nDziś późno pójdę spa
 ć -- https://youtu.be/FWDXwrgdm9w\nNiemożliwe -- https://youtu.be/wj5e-u
 r03f4\nNic więcej - https://youtu.be/wBkL-eg2Dj8\nDzień Dobry (Live) -- 
 https://youtu.be/tu6vPd--Wdk\nHuśtawki (Live) -- https://youtu.be/LDFo6vk
 5QUk
ATTACH;FMTTYPE=image/jpeg:https://night4u.pl/wp-content/uploads/2020/01/13
 0566_image_81523038_451653915517932_478425649871060992_o.jpg
CATEGORIES:dolnośląskie
LOCATION:A2 - Centrum Koncertowe\, Góralska 5\, Wroclaw\, 53-610\, Poland
GEO:51.108613;17.001703
X-APPLE-STRUCTURED-LOCATION;VALUE=URI;X-ADDRESS=Góralska 5\, Wroclaw\, 53-
 610\, Poland;X-APPLE-RADIUS=100;X-TITLE=A2 - Centrum Koncertowe:geo:51.108
 613,17.001703
END:VEVENT
BEGIN:VTIMEZONE
TZID:Europe/Warsaw
X-LIC-LOCATION:Europe/Warsaw
BEGIN:STANDARD
DTSTART:20191027T020000
TZOFFSETFROM:+0200
TZOFFSETTO:+0100
TZNAME:CET
END:STANDARD
END:VTIMEZONE
END:VCALENDAR