BEGIN:VCALENDAR
VERSION:2.0
PRODID:-//wp-events-plugin.com//7.2.3.1//EN
TZID:Europe/Warsaw
X-WR-TIMEZONE:Europe/Warsaw
BEGIN:VEVENT
UID:41624@night4u.pl
DTSTART;TZID=Europe/Warsaw:20200307T190000
DTEND;TZID=Europe/Warsaw:20200307T220000
DTSTAMP:20200331T140453Z
URL:https://night4u.pl/wydarzenia/sold-out-mata-100-dni-do-matury-wroclaw/
SUMMARY:SOLD OUT! Mata / 100 dni do matury / Wrocław
DESCRIPTION:Koncert został wyprzedany. \n\nZapraszamy na premierowy koncer
 t Maty\, promujący jego najnowszy album pt. „100 dni do matury”.\n\nB
 ILETY:\nI pula - 40 zł\nII pula - 50 zł\nIII pula - 60 zł \n\nUWAGA!\n\
 nOsoby poniżej 16 roku życia mogą wziąć udział w koncercie tylko pod
  opieką osoby dorosłej i na wyłączną odpowiedzialność osoby dorosł
 ej\, pod której pieczą pozostaje\, po nabyciu biletów wstępu zarówno 
 dla osoby małoletniej jak i dorosłej.\n\nOsoby niepełnoletnie\, które 
 ukończyły 16 lat\, mogą uczestniczyć w koncercie pod warunkiem posiada
 nia ważnego biletu oraz podpisanej zgody opiekunów prawnych na uczestnic
 two w imprezie.\n\nOświadczenie do pobrania:\nhttp://soldoutagencja.pl/os
 wiadczenie.php
ATTACH;FMTTYPE=image/jpeg:https://night4u.pl/wp-content/uploads/2020/01/13
 0560_image_82372487_745682019288265_321257484952010752_o.jpg
CATEGORIES:dolnośląskie
LOCATION:Stary Klasztor\, Purkyniego 1\, Wroclaw\, 50-155\, Poland
GEO:51.110198;17.039162
X-APPLE-STRUCTURED-LOCATION;VALUE=URI;X-ADDRESS=Purkyniego 1\, Wroclaw\, 50
 -155\, Poland;X-APPLE-RADIUS=100;X-TITLE=Stary Klasztor:geo:51.110198,17.0
 39162
END:VEVENT
BEGIN:VTIMEZONE
TZID:Europe/Warsaw
X-LIC-LOCATION:Europe/Warsaw
BEGIN:STANDARD
DTSTART:20191027T020000
TZOFFSETFROM:+0200
TZOFFSETTO:+0100
TZNAME:CET
END:STANDARD
END:VTIMEZONE
END:VCALENDAR