BEGIN:VCALENDAR
VERSION:2.0
PRODID:-//wp-events-plugin.com//7.2.3.1//EN
TZID:Europe/Warsaw
X-WR-TIMEZONE:Europe/Warsaw
BEGIN:VEVENT
UID:42774@night4u.pl
DTSTART;TZID=Europe/Warsaw:20210605T190000
DTEND;TZID=Europe/Warsaw:20210605T220000
DTSTAMP:20210427T204134Z
URL:https://night4u.pl/wydarzenia/sold-out-szpaku-dzieci-duchy-poznan-25-0
 9-2020/
SUMMARY:Szpaku - Różowa Pantera - Poznań
DESCRIPTION:❗️DATA WYDARZENIA: 05.06.2021 ❗️\n\nnoSleep &amp\; GUGU
  zapraszają na premierowy koncert Szpaka w Poznaniu.\n\nWydarzenie jest c
 zęścią  trasy koncertowej Różowa Pantera.\n  \n🕷🕷🕷🕷🕷\n
   \nWSZYSTKIE BILETY ZACHOWUJĄ WAŻNOŚĆ\, RÓWNIEŻ TE Z PIERWOTNĄ DAT
 Ą!\n  \n  __________________\n  Wstęp +16\n  Poniżej tylko z pełnopraw
 nym opiekunem.\n\nOrganizator wydarzenia jest beneficjentem Funduszu Wspar
 cia Kultury.
ATTACH;FMTTYPE=image/jpeg:https://night4u.pl/wp-content/uploads/2021/04/13
 5739_image_154812977_1318022911913447_9014070493993066298_n.jpg
CATEGORIES:wielkopolskie
LOCATION:Tama\, ul. Niezłomnych 2\, Poznan\, 61-714\, Poland
GEO:52.402524;16.922364
X-APPLE-STRUCTURED-LOCATION;VALUE=URI;X-ADDRESS=ul. Niezłomnych 2\, Poznan
 \, 61-714\, Poland;X-APPLE-RADIUS=100;X-TITLE=Tama:geo:52.402524,16.922364
END:VEVENT
BEGIN:VTIMEZONE
TZID:Europe/Warsaw
X-LIC-LOCATION:Europe/Warsaw
BEGIN:DAYLIGHT
DTSTART:20210328T030000
TZOFFSETFROM:+0100
TZOFFSETTO:+0200
TZNAME:CEST
END:DAYLIGHT
END:VTIMEZONE
END:VCALENDAR