BEGIN:VCALENDAR
VERSION:2.0
PRODID:-//wp-events-plugin.com//7.2.3.1//EN
TZID:Europe/Warsaw
X-WR-TIMEZONE:Europe/Warsaw
BEGIN:VEVENT
UID:23170@night4u.pl
DTSTART;TZID=Europe/Warsaw:20191024T200000
DTEND;TZID=Europe/Warsaw:20191024T230000
DTSTAMP:20191018T105726Z
URL:https://night4u.pl/wydarzenia/soley-24-10-poznan/
SUMMARY:SÓLEY / 24.10 / Poznań
DESCRIPTION:BILETY I PULA: WYPRZEDANE\nBILETY II PULA:\nhttps://www.biletom
 at.pl/pop-rock/soley-poznan-8300/\nhttps://goingapp.pl/evt/2141268/soley-p
 oznan\nhttps://goout.net/pl/bilety/soley/grxe/\n\nOraz on-line I stacjonar
 nie przez sieć empik.\n\nNa początku stycznia napisała na swoim Faceboo
 ku\, że 2019 rok będzie dla niej czasem spędzonym nad nagrywaniem nowyc
 h piosenek\, tworzeniem oprawy muzycznej tajnego jeszcze spektaklu teatral
 nego i pisaniem orkiestrowych utworów. Po kilku miesiącach wytężonej p
 racy przyszła pora na koniec koncertowego fajrantu. Sóley\, obok Björk\
 , GusGus czy Högniego nazywana jedną z najjaśniej świecących gwiazd i
 slandzkiej muzyki\, ponownie zagra dla polskiej publiczności! Nadchodząc
 e występy multiinstrumentalistki to okazja do posłuchania jej dobrze zna
 nych numerów\, ale też premierowych kompozycji. \n\nPochodząca z małej
  miejscowości Hafnarfjörðu wokalistka już na samym początku swojej ka
 riery\, czyli w 2010 roku\, zdobyła serca odbiorców zainteresowanych kli
 matycznym\, kojącym art-popem. Wychowana w artystycznej rodzinie – ojci
 ec jest trębaczem\, a rodzeństwo również bryluje na estradzie – od z
 awsze chciała występować. Szybko okazało się\, że w centrum zaintere
 sowań wokalistki leżą łagodne\, uzupełnione o dźwięki pianina czy d
 elikatnego instrumentarium melodie. To właśnie nimi wypełnione są jej 
 trzy\, świetnie przyjęte przez dziennikarzy i słuchaczy solowe krążki
 . Ostatni z nich\, czyli „Endless Summer”\, ukazał się dwa lata temu
  nakładem oficyny Morr Music: tego samego\, w którego katalogu znajduje 
 się Fenster czy The Notwist. Na pokładzie berlińskiego wydawnictwa są 
 też zespół Múm i Sin Fang\, z którymi Sóley przygotowała jako Team 
 Dreams materiał zamykający jej dotychczasową dyskografię. Dwanaście p
 iosenek stworzonych w elektroniczno-klasycznym stylu kroczy w tym samym ki
 erunku\, jaki Islandka obrała już na pierwszych EP-kach. Kolejnym asem w
  rękawie będzie zaś czwarty album\, którego preludium stanowi tournée
  po Europie!
ATTACH;FMTTYPE=image/jpeg:https://night4u.pl/wp-content/uploads/2019/07/54
 747_image_67645062_2271183802957657_4126218962948063232_o.jpg
CATEGORIES:wielkopolskie
LOCATION:Próżność\, Niepodległości 8a\, Poznan\, 61-875\, Poland
GEO:52.405584;16.91872
X-APPLE-STRUCTURED-LOCATION;VALUE=URI;X-ADDRESS=Niepodległości 8a\, Pozna
 n\, 61-875\, Poland;X-APPLE-RADIUS=100;X-TITLE=Próżność:geo:52.405584,
 16.91872
END:VEVENT
BEGIN:VTIMEZONE
TZID:Europe/Warsaw
X-LIC-LOCATION:Europe/Warsaw
BEGIN:DAYLIGHT
DTSTART:20190331T030000
TZOFFSETFROM:+0100
TZOFFSETTO:+0200
TZNAME:CEST
END:DAYLIGHT
END:VTIMEZONE
END:VCALENDAR